Uber Exif Photo
Caption-Abstract : SONY DSC
Copyright Flag : False
Image Description : SONY DSC
Make : SONY
Camera Model Name : NEX-5
Orientation : Horizontal (normal)
Software : Adobe Photoshop CS3 Windows
Modify Date : 2011:04:30 21:57:17
Exposure Time : 1/30
F Number : 1.0
Exposure Program : Aperture-priority AE
ISO : 640
Date/Time Original : 2010:04:24 09:43:06
Create Date : 2010:04:24 09:43:06
Shutter Speed Value : 1/30
Aperture Value : 1.0
Brightness Value : -3.5
Exposure Compensation : 0
Max Aperture Value : 1.0
Metering Mode : Multi-segment
Light Source : Unknown
Color Space : sRGB
Exif Image Width : 1024
Exif Image Height : 681
Scene Type : Directly photographed
Custom Rendered : Normal
Exposure Mode : Auto
White Balance : Manual
Scene Capture Type : Standard
Contrast : High
Saturation : Low
Sharpness : Hard
Profile Description : sRGB IEC61966-2.1
Date/Time Digitized : 2010:04:24 09:43:06+07:00
Creator Tool : Adobe Photoshop CS3 Windows
Version : 5.2
Incremental Temperature : -15
Incremental Tint : -5
Exposure : +0.85
Shadows : 2
Brightness : 0
Luminance Smoothing : 0
Color Noise Reduction : 0
Chromatic Aberration R : 0
Chromatic Aberration B : 0
Vignette Amount : 0
Shadow Tint : 0
Red Hue : 0
Red Saturation : 0
Green Hue : 0
Green Saturation : 0
Blue Hue : 0
Blue Saturation : 0
Fill Light : 0
Vibrance : +10
Highlight Recovery : 0
Clarity : +5
Defringe : 0
Hue Adjustment Red : 0
Hue Adjustment Orange : 0
Hue Adjustment Yellow : 0
Hue Adjustment Green : 0
Hue Adjustment Aqua : 0
Hue Adjustment Blue : 0
Hue Adjustment Purple : 0
Hue Adjustment Magenta : 0
Saturation Adjustment Red : 0
Saturation Adjustment Orange : +15
Saturation Adjustment Yellow : 0
Saturation Adjustment Green : 0
Saturation Adjustment Aqua : 0
Saturation Adjustment Blue : 0
Saturation Adjustment Purple : 0
Saturation Adjustment Magenta : 0
Luminance Adjustment Red : 0
Luminance Adjustment Orange : 0
Luminance Adjustment Yellow : 0
Luminance Adjustment Green : 0
Luminance Adjustment Aqua : 0
Luminance Adjustment Blue : 0
Luminance Adjustment Purple : 0
Luminance Adjustment Magenta : 0
Split Toning Shadow Hue : 0
Split Toning Shadow Saturation : 0
Split Toning Highlight Hue : 0
Split Toning Highlight Saturation : 0
Split Toning Balance : 0
Parametric Shadows : 0
Parametric Darks : 0
Parametric Lights : 0
Parametric Highlights : 0
Parametric Shadow Split : 25
Parametric Midtone Split : 50
Parametric Highlight Split : 75
Sharpen Radius : +1.0
Sharpen Detail : 25
Sharpen Edge Masking : 0
Post Crop Vignette Amount : -10
Post Crop Vignette Midpoint : 50
Post Crop Vignette Feather : 50
Post Crop Vignette Roundness : 0
Convert To Grayscale : False
Tone Curve Name : Linear
Camera Profile : Embedded
Has Settings : True
Has Crop : False
Already Applied : True
Color Mode : RGB
ICC Profile Name : sRGB IEC61966-2.1
Format : image/jpeg
Flash Fired : False
Flash Return : No return detection
Flash Mode : Off
Flash Function : False
Flash Red Eye Mode : False
Tone Curve : 0, 0, 255, 255
Description : SONY DSC
Image Width : 300
Image Height : 200
Bits Per Sample : 8
Color Components : 3
Aperture : 1.0
Image Size : 300x200
Megapixels : 0.060
Shutter Speed : 1/30
Flash : Off, Did not fire
Light Value : 2.2