Uber Exif Photo
By-line : Marcellus Tans
Make : Canon
Camera Model Name : Canon EOS 400D DIGITAL
Modify Date : 2011:01:09 22:37:37
Artist : Marcellus Tans
Exposure Time : 1/90
F Number : 9.5
Exposure Program : Aperture-priority AE
ISO : 200
Date/Time Original : 2010:12:10 10:28:27
Create Date : 2010:12:10 10:28:27
Shutter Speed Value : 1/90
Aperture Value : 9.5
Exposure Compensation : 0
Max Aperture Value : 2.0
Metering Mode : Average
Focal Length : 28.0 mm
Custom Rendered : Normal
Exposure Mode : Auto
White Balance : Manual
Scene Capture Type : Standard
Date/Time Digitized : 2010:12:10 10:28:27+01:00
Exif Image Width : 3888
Exif Image Height : 2592
Creator Tool : Adobe Photoshop Lightroom
Serial Number : 1030530878
Lens Info : 28mm f/?
Lens : 28.0 mm
Image Number : 128
Flash Compensation : 0
Owner Name : Marcellus Tans
Firmware : 1.1.1
Version : 5.2
Color Temperature : 5800
Tint : +8
Exposure : +0.85
Shadows : 28
Brightness : +59
Contrast : +9
Sharpness : 25
Luminance Smoothing : 0
Color Noise Reduction : 25
Chromatic Aberration R : 0
Chromatic Aberration B : 0
Vignette Amount : 0
Shadow Tint : 0
Red Hue : 0
Red Saturation : 0
Green Hue : 0
Green Saturation : 0
Blue Hue : 0
Blue Saturation : 0
Fill Light : 0
Highlight Recovery : 0
Clarity : 0
Defringe : 0
Gray Mixer Red : -8
Gray Mixer Orange : -17
Gray Mixer Yellow : -21
Gray Mixer Green : -26
Gray Mixer Aqua : -19
Gray Mixer Blue : +8
Gray Mixer Purple : +14
Gray Mixer Magenta : +4
Split Toning Shadow Hue : 0
Split Toning Shadow Saturation : 0
Split Toning Highlight Hue : 0
Split Toning Highlight Saturation : 0
Split Toning Balance : 0
Parametric Shadows : -15
Parametric Darks : -47
Parametric Lights : +7
Parametric Highlights : +70
Parametric Shadow Split : 18
Parametric Midtone Split : 50
Parametric Highlight Split : 75
Sharpen Radius : +1.0
Sharpen Detail : 50
Sharpen Edge Masking : 0
Post Crop Vignette Amount : 0
Convert To Grayscale : True
Tone Curve Name : Strong Contrast
Camera Profile : Adobe Standard
Has Settings : True
Has Crop : False
Already Applied : True
Flash Fired : False
Flash Return : No return detection
Flash Mode : Off
Flash Function : False
Flash Red Eye Mode : False
Creator : Marcellus Tans
Tone Curve : 0, 0, 32, 16, 64, 50, 128, 128, 192, 202, 255, 255
Image Width : 300
Image Height : 200
Bits Per Sample : 8
Color Components : 1
Aperture : 9.5
Image Size : 300x200
Megapixels : 0.060
Scale Factor To 35 mm Equivalent : 1.6
Shutter Speed : 1/90
Flash : Off, Did not fire
Circle Of Confusion : 0.019 mm
Field Of View : 43.3 deg
Focal Length : 28.0 mm (35 mm equivalent: 45.3 mm)
Hyperfocal Distance : 4.45 m
Light Value : 12.0
Lens ID : 28.0mm