Uber Exif Photo
By-line : Peter Fallberg
Copyright Notice : ProSwedePhoto
Photometric Interpretation : RGB
Make : Canon
Camera Model Name : Canon EOS-1D Mark IV
Orientation : Horizontal (normal)
Samples Per Pixel : 3
Planar Configuration : Chunky
Software : Adobe Photoshop CS5 Windows
Modify Date : 2010:11:24 19:52:21
Artist : Peter Fallberg
Copyright : ProSwedePhoto
Exposure Time : 13
F Number : 16.0
Exposure Program : Aperture-priority AE
ISO : 100
Date/Time Original : 2010:11:09 03:31:50
Create Date : 2010:11:09 03:31:50
Shutter Speed Value : 13
Aperture Value : 16.0
Exposure Compensation : -1/3
Max Aperture Value : 1.4
Metering Mode : Multi-segment
Flash : Off, Did not fire
Focal Length : 50.0 mm
Color Space : sRGB
Exif Image Width : 1024
Exif Image Height : 683
Custom Rendered : Normal
Exposure Mode : Auto
White Balance : Auto
Scene Capture Type : Standard
Profile Description : sRGB IEC61966-2.1
Rating : 0
Creator Tool : Adobe Photoshop CS5 Windows
Format : image/jpeg
Serial Number : 220101110
Lens Info : 50mm f/?
Lens : Zeiss Planar T* 1.4/50 ZE
Image Number : 0
Flash Compensation : 0
Firmware : 1.0.6
Raw File Name : _30C7338.CR2
Version : 6.1
Process Version : 5.7
Color Temperature : 4500
Tint : +15
Exposure : 0.00
Shadows : 5
Brightness : +55
Contrast : +25
Saturation : 0
Sharpness : 35
Luminance Smoothing : 15
Color Noise Reduction : 28
Chromatic Aberration R : 0
Chromatic Aberration B : 0
Vignette Amount : 0
Shadow Tint : 0
Red Hue : 0
Red Saturation : 0
Green Hue : 0
Green Saturation : 0
Blue Hue : 0
Blue Saturation : 0
Fill Light : 10
Vibrance : +15
Highlight Recovery : 10
Clarity : +23
Defringe : 0
Hue Adjustment Red : 0
Hue Adjustment Orange : 0
Hue Adjustment Yellow : 0
Hue Adjustment Green : 0
Hue Adjustment Aqua : 0
Hue Adjustment Blue : 0
Hue Adjustment Purple : 0
Hue Adjustment Magenta : 0
Saturation Adjustment Red : 0
Saturation Adjustment Orange : 0
Saturation Adjustment Yellow : 0
Saturation Adjustment Green : 0
Saturation Adjustment Aqua : 0
Saturation Adjustment Blue : 0
Saturation Adjustment Purple : 0
Saturation Adjustment Magenta : 0
Luminance Adjustment Red : 0
Luminance Adjustment Orange : 0
Luminance Adjustment Yellow : 0
Luminance Adjustment Green : 0
Luminance Adjustment Aqua : 0
Luminance Adjustment Blue : 0
Luminance Adjustment Purple : 0
Luminance Adjustment Magenta : 0
Split Toning Shadow Hue : 0
Split Toning Shadow Saturation : 0
Split Toning Highlight Hue : 0
Split Toning Highlight Saturation : 0
Split Toning Balance : 0
Parametric Shadows : 0
Parametric Darks : 0
Parametric Lights : 0
Parametric Highlights : 0
Parametric Shadow Split : 25
Parametric Midtone Split : 50
Parametric Highlight Split : 75
Sharpen Radius : +1.4
Sharpen Detail : 30
Sharpen Edge Masking : 40
Post Crop Vignette Amount : 0
Grain Amount : 0
Luminance Noise Reduction Detail : 50
Color Noise Reduction Detail : 50
Luminance Noise Reduction Contrast : 0
Lens Profile Enable : 0
Lens Manual Distortion Amount : 0
Perspective Vertical : 0
Perspective Horizontal : 0
Perspective Rotate : 0.0
Perspective Scale : 100
Convert To Grayscale : False
Tone Curve Name : Medium Contrast
Camera Profile : Adobe Standard
Lens Profile Setup : LensDefaults
Has Settings : True
Has Crop : False
Already Applied : True
Sidecar For Extension : CR2
Color Mode : RGB
ICC Profile Name : sRGB IEC61966-2.1
Date Created : 2010:11:09 03:31:50
Creator : Peter Fallberg
Rights : ProSwedePhoto
Tone Curve : 0, 0, 32, 22, 64, 56, 128, 128, 192, 196, 255, 255
Image Width : 300
Image Height : 200
Bits Per Sample : 8
Color Components : 3
Aperture : 16.0
Image Size : 300x200
Megapixels : 0.060
Scale Factor To 35 mm Equivalent : 1.1
Shutter Speed : 13
Create Date : 2010:11:09 03:31:50.00
Date/Time Original : 2010:11:09 03:31:50.00
Modify Date : 2010:11:24 19:52:21.00
Circle Of Confusion : 0.027 mm
Field Of View : 36.0 deg
Focal Length : 50.0 mm (35 mm equivalent: 55.4 mm)
Hyperfocal Distance : 5.76 m
Light Value : 4.3
Lens ID : Carl Zeiss Planar T* 50mm f/1.4