Uber Exif Photo
By-line : Photographer: Chenjun Shi
Copyright Notice : Copyright: Chenjun shi
Make : Canon
Camera Model Name : Canon EOS 5D Mark II
Modify Date : 2010:04:26 13:38:27
Artist : Photographer: Chenjun Shi
Copyright : Copyright: Chenjun shi
Exposure Time : 1/200
F Number : 2.0
Exposure Program : Aperture-priority AE
ISO : 100
Date/Time Original : 2010:04:24 14:52:11
Create Date : 2010:04:24 14:52:11
Shutter Speed Value : 1/200
Aperture Value : 2.0
Exposure Compensation : 0
Max Aperture Value : 2.0
Metering Mode : Multi-segment
Focal Length : 50.0 mm
Custom Rendered : Normal
Exposure Mode : Auto
White Balance : Auto
Scene Capture Type : Standard
Profile Description : sRGB IEC61966-2.1
Date/Time Digitized : 2010:04:24 14:52:11.73-07:00
Exif Image Width : 2205
Exif Image Height : 1470
Rating : 0
Serial Number : 1320806347
Lens Info : 50mm f/?
Lens : Zeiss Makro-Planar T* 2/50 ZE
Image Number : 0
Flash Compensation : 0
Owner Name : Chenjun Shi
Firmware : 2.0.4
Raw File Name : IMG_3567.CR2
Version : 5.7
Process Version : 5.0
Color Temperature : 4250
Tint : -2
Exposure : 0.00
Shadows : 5
Brightness : +50
Contrast : +25
Saturation : 0
Sharpness : 25
Luminance Smoothing : 0
Color Noise Reduction : 25
Chromatic Aberration R : 0
Chromatic Aberration B : 0
Vignette Amount : 0
Shadow Tint : 0
Red Hue : 0
Red Saturation : 0
Green Hue : 0
Green Saturation : 0
Blue Hue : 0
Blue Saturation : 0
Fill Light : 0
Vibrance : +7
Highlight Recovery : 0
Clarity : +59
Defringe : 2
Hue Adjustment Red : 0
Hue Adjustment Orange : 0
Hue Adjustment Yellow : 0
Hue Adjustment Green : 0
Hue Adjustment Aqua : 0
Hue Adjustment Blue : 0
Hue Adjustment Purple : 0
Hue Adjustment Magenta : 0
Saturation Adjustment Red : 0
Saturation Adjustment Orange : 0
Saturation Adjustment Yellow : 0
Saturation Adjustment Green : 0
Saturation Adjustment Aqua : 0
Saturation Adjustment Blue : 0
Saturation Adjustment Purple : 0
Saturation Adjustment Magenta : 0
Luminance Adjustment Red : 0
Luminance Adjustment Orange : 0
Luminance Adjustment Yellow : 0
Luminance Adjustment Green : 0
Luminance Adjustment Aqua : 0
Luminance Adjustment Blue : 0
Luminance Adjustment Purple : 0
Luminance Adjustment Magenta : 0
Split Toning Shadow Hue : 0
Split Toning Shadow Saturation : 0
Split Toning Highlight Hue : 0
Split Toning Highlight Saturation : 0
Split Toning Balance : 0
Parametric Shadows : 0
Parametric Darks : -15
Parametric Lights : +62
Parametric Highlights : 0
Parametric Shadow Split : 25
Parametric Midtone Split : 50
Parametric Highlight Split : 75
Sharpen Radius : +1.0
Sharpen Detail : 25
Sharpen Edge Masking : 0
Post Crop Vignette Amount : 0
Grain Amount : 0
Convert To Grayscale : False
Tone Curve Name : Strong Contrast
Camera Profile : Camera Standard
Has Settings : True
Crop Top : 0.3648
Crop Left : 0.392784
Crop Bottom : 0.757502
Crop Right : 0.785486
Crop Angle : 0
Crop Width : 6
Crop Height : 4
Crop Unit : Unknown (3)
Has Crop : True
Already Applied : True
Flash Fired : False
Flash Return : No return detection
Flash Mode : Off
Flash Function : False
Flash Red Eye Mode : False
Creator : Photographer: Chenjun Shi
Rights : Copyright: Chenjun shi
Tone Curve : 0, 0, 32, 16, 64, 50, 128, 128, 192, 202, 255, 255
Image Width : 300
Image Height : 200
Bits Per Sample : 8
Color Components : 3
Aperture : 2.0
Image Size : 300x200
Megapixels : 0.060
Scale Factor To 35 mm Equivalent : 1.0
Shutter Speed : 1/200
Create Date : 2010:04:24 14:52:11.73
Date/Time Original : 2010:04:24 14:52:11.73
Flash : Off, Did not fire
Circle Of Confusion : 0.031 mm
Field Of View : 40.5 deg
Focal Length : 50.0 mm (35 mm equivalent: 48.8 mm)
Hyperfocal Distance : 40.60 m
Light Value : 9.6
Lens ID : Carl Zeiss Makro-Planar T* 50mm f/2 ZE