Uber Exif Photo
Keywords : Baden Baden Kunsthalle
By-line : MG
Make : NIKON CORPORATION
Camera Model Name : NIKON D700
Software : Ver.1.02
Modify Date : 2010:06:15 19:12:50
Artist : MG
Exposure Time : 1/60
F Number : 4.5
Exposure Program : Manual
ISO : 1400
Date/Time Original : 2010:06:01 11:17:21
Create Date : 2010:06:01 11:17:21
Shutter Speed Value : 1/60
Aperture Value : 4.5
Exposure Compensation : 0
Max Aperture Value : 2.0
Metering Mode : Multi-segment
Light Source : Unknown
Focal Length : 35.0 mm
Color Space : Uncalibrated
Sensing Method : One-chip color area
Scene Type : Directly photographed
CFA Pattern : [Red,Green][Green,Blue]
Custom Rendered : Normal
Exposure Mode : Manual
White Balance : Auto
Digital Zoom Ratio : 1
Focal Length In 35mm Format : 35 mm
Scene Capture Type : Standard
Gain Control : High gain up
Contrast : Low
Saturation : Normal
Sharpness : Hard
Subject Distance Range : Unknown
Profile Description : sRGB IEC61966-2.1
Image Number : 3846
Lens : 35.0 mm f/2.0
Lens Info : 35mm f/2
Serial Number : 2268196
Creator : MG
Subject : Baden Baden Kunsthalle
Date/Time Digitized : 2010:06:01 11:17:21.65+02:00
Flash Fired : False
Flash Function : False
Flash Mode : Unknown
Flash Red Eye Mode : False
Flash Return : No return detection
Exif Image Width : 1000
Exif Image Height : 673
Creator Tool : Adobe Photoshop Lightroom
Label : Gelb
Rating : 4
Already Applied : True
Blue Hue : 0
Blue Saturation : 0
Brightness : +50
Camera Profile : Camera Standard v2
Chromatic Aberration B : 0
Chromatic Aberration R : 0
Clarity : +10
Color Noise Reduction : 15
Convert To Grayscale : False
Crop Angle : -1.70847
Crop Bottom : 0.908526
Crop Height : 673
Crop Left : 0.011953
Crop Right : 0.925846
Crop Top : 0.042902
Crop Unit : pixels
Crop Width : 1000
Defringe : 0
Exposure : +0.34
Fill Light : 8
Green Hue : 0
Green Saturation : 0
Has Crop : True
Has Settings : True
Highlight Recovery : 27
Hue Adjustment Aqua : 0
Hue Adjustment Blue : 0
Hue Adjustment Green : 0
Hue Adjustment Magenta : 0
Hue Adjustment Orange : 0
Hue Adjustment Purple : 0
Hue Adjustment Red : 0
Hue Adjustment Yellow : 0
Luminance Adjustment Aqua : 0
Luminance Adjustment Blue : 0
Luminance Adjustment Green : 0
Luminance Adjustment Magenta : 0
Luminance Adjustment Orange : 0
Luminance Adjustment Purple : 0
Luminance Adjustment Red : 0
Luminance Adjustment Yellow : 0
Luminance Smoothing : 10
Parametric Darks : 0
Parametric Highlight Split : 75
Parametric Highlights : 0
Parametric Lights : 0
Parametric Midtone Split : 50
Parametric Shadow Split : 25
Parametric Shadows : 0
Post Crop Vignette Amount : 0
Red Hue : 0
Red Saturation : 0
Saturation Adjustment Aqua : 0
Saturation Adjustment Blue : 0
Saturation Adjustment Green : 0
Saturation Adjustment Magenta : 0
Saturation Adjustment Orange : 0
Saturation Adjustment Purple : 0
Saturation Adjustment Red : 0
Saturation Adjustment Yellow : 0
Shadow Tint : 0
Shadows : 5
Sharpen Detail : 25
Sharpen Edge Masking : 0
Sharpen Radius : +0.9
Split Toning Balance : 0
Split Toning Highlight Hue : 0
Split Toning Highlight Saturation : 0
Split Toning Shadow Hue : 0
Split Toning Shadow Saturation : 0
Color Temperature : 3250
Tint : +8
Tone Curve : 0, 0, 32, 16, 64, 50, 128, 128, 192, 202, 255, 255
Tone Curve Name : Strong Contrast
Version : 6.1
Vibrance : +10
Vignette Amount : 0
Image Width : 300
Image Height : 298
Bits Per Sample : 8
Color Components : 3
Aperture : 4.5
Image Size : 300x298
Megapixels : 0.089
Scale Factor To 35 mm Equivalent : 1.0
Shutter Speed : 1/60
Create Date : 2010:06:01 11:17:21.65
Date/Time Original : 2010:06:01 11:17:21.65
Flash : No Flash
Circle Of Confusion : 0.030 mm
Field Of View : 54.4 deg
Focal Length : 35.0 mm (35 mm equivalent: 35.0 mm)
Hyperfocal Distance : 9.06 m
Light Value : 6.4
Lens ID : 35.0mm f/2.0