Uber Exif Photo
Make : Canon
Camera Model Name : Canon EOS 5D Mark II
Software : Digital Photo Professional
Modify Date : 2010:11:04 23:25:08
Exposure Time : 1/200
F Number : 9.0
ISO : 100
Sensitivity Type : Unknown
Date/Time Original : 2010:10:02 14:58:02
Create Date : 2010:10:02 14:58:02
Shutter Speed Value : 1/200
Aperture Value : 9.0
Exposure Compensation : 0
Max Aperture Value : 2.8
Focal Length : 21.0 mm
Custom Rendered : Normal
Exposure Mode : Auto
White Balance : Auto
Scene Capture Type : Standard
Serial Number : 1421012697
Lens Info : 21mm f/?
Lens Model : 21mm
Profile Description : sRGB IEC61966-2.1
Date/Time Digitized : 2010:10:02 14:58:02-04:00
Exif Image Width : 3367
Exif Image Height : 2245
Creator Tool : Adobe Photoshop Lightroom
Lens : 21mm
Image Number : 0
Flash Compensation : 0
Firmware : 2.0.4
Version : 6.2
Process Version : 5.7
Incremental Temperature : 0
Incremental Tint : +6
Exposure : +0.14
Shadows : 14
Brightness : +15
Contrast : +10
Saturation : +100
Sharpness : 38
Luminance Smoothing : 52
Color Noise Reduction : 10
Chromatic Aberration R : 0
Chromatic Aberration B : 0
Vignette Amount : 0
Shadow Tint : 0
Red Hue : 0
Red Saturation : 0
Green Hue : 0
Green Saturation : 0
Blue Hue : 0
Blue Saturation : 0
Fill Light : 66
Vibrance : -40
Highlight Recovery : 26
Clarity : +75
Defringe : 0
Hue Adjustment Red : +4
Hue Adjustment Orange : -64
Hue Adjustment Yellow : -13
Hue Adjustment Green : 0
Hue Adjustment Aqua : 0
Hue Adjustment Blue : 0
Hue Adjustment Purple : -63
Hue Adjustment Magenta : -16
Saturation Adjustment Red : 0
Saturation Adjustment Orange : +75
Saturation Adjustment Yellow : -77
Saturation Adjustment Green : 0
Saturation Adjustment Aqua : 0
Saturation Adjustment Blue : -100
Saturation Adjustment Purple : 0
Saturation Adjustment Magenta : 0
Luminance Adjustment Red : +5
Luminance Adjustment Orange : 0
Luminance Adjustment Yellow : 0
Luminance Adjustment Green : 0
Luminance Adjustment Aqua : 0
Luminance Adjustment Blue : -25
Luminance Adjustment Purple : -7
Luminance Adjustment Magenta : 0
Split Toning Shadow Hue : 0
Split Toning Shadow Saturation : 0
Split Toning Highlight Hue : 0
Split Toning Highlight Saturation : 0
Split Toning Balance : 0
Parametric Shadows : -29
Parametric Darks : -9
Parametric Lights : -73
Parametric Highlights : +30
Parametric Shadow Split : 25
Parametric Midtone Split : 50
Parametric Highlight Split : 75
Sharpen Radius : +1.1
Sharpen Detail : 11
Sharpen Edge Masking : 86
Post Crop Vignette Amount : 0
Grain Amount : 0
Luminance Noise Reduction Detail : 86
Color Noise Reduction Detail : 0
Luminance Noise Reduction Contrast : 0
Lens Profile Enable : 0
Lens Manual Distortion Amount : 0
Perspective Vertical : 0
Perspective Horizontal : 0
Perspective Rotate : 0.0
Perspective Scale : 100
Convert To Grayscale : False
Tone Curve Name : Linear
Camera Profile : Embedded
Lens Profile Setup : LensDefaults
Has Settings : True
Crop Top : 0
Crop Left : 0.048657
Crop Bottom : 1
Crop Right : 0.95132
Crop Angle : 2.75847
Crop Constrain To Warp : 0
Crop Width : 3367
Crop Height : 2245
Crop Unit : pixels
Has Crop : True
Already Applied : True
Flash Fired : False
Flash Return : No return detection
Flash Mode : Off
Flash Function : False
Flash Red Eye Mode : False
Tone Curve : 0, 0, 255, 255
Image Width : 300
Image Height : 200
Bits Per Sample : 8
Color Components : 3
Aperture : 9.0
Image Size : 300x200
Megapixels : 0.060
Scale Factor To 35 mm Equivalent : 1.6
Shutter Speed : 1/200
Flash : Off, Did not fire
Circle Of Confusion : 0.018 mm
Field Of View : 55.5 deg
Focal Length : 21.0 mm (35 mm equivalent: 34.2 mm)
Hyperfocal Distance : 2.65 m
Light Value : 14.0
Lens ID : 21mm