Uber Exif Photo
Keywords : october
Make : Canon
Camera Model Name : Canon EOS 5D Mark II
Modify Date : 2010:10:29 16:59:31
Exposure Time : 1/80
F Number : 1.4
Exposure Program : Aperture-priority AE
ISO : 100
Date/Time Original : 2010:10:29 11:15:22
Create Date : 2010:10:29 11:15:22
Shutter Speed Value : 1/80
Aperture Value : 1.4
Exposure Compensation : +2/3
Max Aperture Value : 1.4
Metering Mode : Multi-segment
Focal Length : 50.0 mm
Custom Rendered : Normal
Exposure Mode : Auto
White Balance : Auto
Scene Capture Type : Standard
Date/Time Digitized : 2010:10:29 11:15:22.67+03:00
Exif Image Width : 1200
Exif Image Height : 600
Creator Tool : Adobe Photoshop Lightroom
Serial Number : 530318836
Lens : 1-65535mm
Image Number : 0
Flash Compensation : 0
Firmware : 1.0.7
Version : 5.7
Color Temperature : 3600
Tint : +12
Exposure : 0.00
Shadows : 44
Brightness : +47
Contrast : +59
Sharpness : 78
Luminance Smoothing : 0
Color Noise Reduction : 25
Chromatic Aberration R : 0
Chromatic Aberration B : 0
Vignette Amount : 0
Shadow Tint : 0
Red Hue : 0
Red Saturation : 0
Green Hue : 0
Green Saturation : 0
Blue Hue : 0
Blue Saturation : 0
Fill Light : 5
Highlight Recovery : 14
Clarity : +100
Defringe : 0
Gray Mixer Red : +23
Gray Mixer Orange : 0
Gray Mixer Yellow : 0
Gray Mixer Green : +37
Gray Mixer Aqua : 0
Gray Mixer Blue : +40
Gray Mixer Purple : 0
Gray Mixer Magenta : 0
Split Toning Shadow Hue : 0
Split Toning Shadow Saturation : 0
Split Toning Highlight Hue : 0
Split Toning Highlight Saturation : 0
Split Toning Balance : 0
Parametric Shadows : 0
Parametric Darks : -10
Parametric Lights : 0
Parametric Highlights : 0
Parametric Shadow Split : 25
Parametric Midtone Split : 50
Parametric Highlight Split : 75
Sharpen Radius : +0.5
Sharpen Detail : 33
Sharpen Edge Masking : 0
Post Crop Vignette Amount : 0
Convert To Grayscale : True
Tone Curve Name : Strong Contrast
Camera Profile : Adobe Standard
Has Settings : True
Crop Top : 0.179106
Crop Left : 0.052683
Crop Bottom : 0.866702
Crop Right : 0.99055
Crop Angle : -0.517241
Crop Width : 1200
Crop Height : 600
Crop Unit : pixels
Has Crop : True
Already Applied : True
Flash Fired : False
Flash Return : No return detection
Flash Mode : Off
Flash Function : False
Flash Red Eye Mode : False
Subject : october
Tone Curve : 0, 0, 32, 16, 64, 50, 128, 128, 192, 202, 255, 255
Image Width : 300
Image Height : 150
Bits Per Sample : 8
Color Components : 1
Aperture : 1.4
Image Size : 300x150
Megapixels : 0.045
Scale Factor To 35 mm Equivalent : 1.0
Shutter Speed : 1/80
Create Date : 2010:10:29 11:15:22.67
Date/Time Original : 2010:10:29 11:15:22.67
Flash : Off, Did not fire
Circle Of Confusion : 0.031 mm
Field Of View : 40.5 deg
Focal Length : 50.0 mm (35 mm equivalent: 48.8 mm)
Hyperfocal Distance : 58.00 m
Light Value : 7.3
Lens ID : Canon EF 35-80mm f/4-5.6