Uber Exif Photo
Keywords : 5D Mark II, 5DMKII, Canon, Canon 5D Mark II, Carl Zeiss 24-85N, Contax N, Kayla, Lighting, Softbox, Strobist, Tyler
By-line : Ekin Photography
Copyright Notice : Ekin Photography
URL : www.ekinphotography.com
Make : Canon
Camera Model Name : Canon EOS 5D Mark II
Modify Date : 2010:07:17 19:16:45
Artist : Ekin
Copyright : Ekin Photography
Exposure Time : 1/160
F Number : 13.0
Exposure Program : Manual
ISO : 100
Date/Time Original : 2010:07:16 23:20:32
Create Date : 2010:07:16 23:20:32
Shutter Speed Value : 1/160
Aperture Value : 13.0
Exposure Compensation : 0
Max Aperture Value : 4.4
Subject Distance : 1.26 m
Metering Mode : Spot
Focal Length : 58.0 mm
Color Space : Uncalibrated
Custom Rendered : Normal
Exposure Mode : Manual
White Balance : Auto
Scene Capture Type : Standard
Profile Description : sRGB IEC61966-2.1
Creator City : O
Creator Work URL : www.ekinphotography.com
Firmware : 2.0.4
Flash Compensation : 0
Image Number : 0
Lens : 24-85mm
Lens Info : 24-85mm f/?
Owner Name : Ekin
Serial Number : 320212923
Creator : Ekin Photography
Rights : Ekin Photography
Subject : 5D Mark II, 5DMKII, Canon, Canon 5D Mark II, Carl Zeiss 24-85N, Contax N, Kayla, Lighting, Softbox, Strobist, Tyler
Contrast : High
Date/Time Digitized : 2010:07:16 23:20:32.92-04:00
Flash Fired : False
Flash Function : False
Flash Mode : Off
Flash Red Eye Mode : False
Flash Return : No return detection
Exif Image Width : 533
Exif Image Height : 800
Saturation : High
Sharpness : Hard
Creator Tool : Adobe Photoshop Lightroom
Label : Blue
Web Statement : www.ekinphotography.com
Already Applied : True
Blue Hue : -2
Blue Saturation : -55
Brightness : +75
Camera Profile : Adobe Standard
Chromatic Aberration B : 0
Chromatic Aberration R : 0
Clarity : -20
Color Noise Reduction : 20
Convert To Grayscale : False
Crop Angle : -2.15865
Crop Bottom : 0.946754
Crop Height : 533
Crop Left : 0.034601
Crop Right : 1
Crop Top : 0.058266
Crop Unit : pixels
Crop Width : 800
Defringe : 0
Exposure : +0.78
Fill Light : 20
Green Hue : +35
Green Saturation : 0
Has Crop : True
Has Settings : True
Highlight Recovery : 0
Hue Adjustment Aqua : 0
Hue Adjustment Blue : 0
Hue Adjustment Green : 0
Hue Adjustment Magenta : 0
Hue Adjustment Orange : 0
Hue Adjustment Purple : 0
Hue Adjustment Red : 0
Hue Adjustment Yellow : 0
Luminance Adjustment Aqua : 0
Luminance Adjustment Blue : 0
Luminance Adjustment Green : 0
Luminance Adjustment Magenta : 0
Luminance Adjustment Orange : 0
Luminance Adjustment Purple : 0
Luminance Adjustment Red : 0
Luminance Adjustment Yellow : 0
Luminance Smoothing : 5
Parametric Darks : +14
Parametric Highlight Split : 75
Parametric Highlights : 0
Parametric Lights : 0
Parametric Midtone Split : 50
Parametric Shadow Split : 25
Parametric Shadows : +18
Post Crop Vignette Amount : 0
Red Hue : -5
Red Saturation : -51
Saturation Adjustment Aqua : 0
Saturation Adjustment Blue : 0
Saturation Adjustment Green : 0
Saturation Adjustment Magenta : 0
Saturation Adjustment Orange : 0
Saturation Adjustment Purple : 0
Saturation Adjustment Red : 0
Saturation Adjustment Yellow : 0
Shadow Tint : -3
Shadows : 9
Sharpen Detail : 25
Sharpen Edge Masking : 0
Sharpen Radius : +1.0
Split Toning Balance : 0
Split Toning Highlight Hue : 0
Split Toning Highlight Saturation : 0
Split Toning Shadow Hue : 0
Split Toning Shadow Saturation : 0
Color Temperature : 4600
Tint : -4
Tone Curve : 0, 0, 32, 22, 64, 56, 128, 128, 192, 196, 255, 255
Tone Curve Name : Medium Contrast
Version : 6.1
Vibrance : 0
Vignette Amount : -54
Vignette Midpoint : 15
Image Width : 178
Image Height : 300
Bits Per Sample : 8
Color Components : 3
Aperture : 13.0
Image Size : 178x300
Megapixels : 0.053
Scale Factor To 35 mm Equivalent : 6.9
Shutter Speed : 1/160
Create Date : 2010:07:16 23:20:32.92
Date/Time Original : 2010:07:16 23:20:32.92
Flash : Off, Did not fire
Circle Of Confusion : 0.004 mm
Depth Of Field : 0.05 m (1.23 - 1.29 m)
Field Of View : 5.2 deg
Focal Length : 58.0 mm (35 mm equivalent: 399.8 mm)
Hyperfocal Distance : 59.36 m
Light Value : 14.7
Lens ID : Unknown (10) 24-85mm