Uber Exif Photo
Keywords : Festival, Santa Palua
By-line : Photographer: Gary B. Cook
Copyright Notice : Copyright: Gary B. Cook
Make : Canon
Camera Model Name : Canon EOS 5D Mark II
Modify Date : 2010:08:13 22:40:22
Artist : Photographer: Gary B. Cook
Copyright : Copyright: Gary B. Cook
Exposure Time : 0.3
F Number : 8.0
Exposure Program : Aperture-priority AE
ISO : 3200
Date/Time Original : 2010:07:30 20:38:56
Create Date : 2010:07:30 20:38:56
Shutter Speed Value : 0.3
Aperture Value : 8.0
Exposure Compensation : 0
Max Aperture Value : 3.5
Metering Mode : Multi-segment
Focal Length : 18.0 mm
Custom Rendered : Normal
Exposure Mode : Auto
White Balance : Manual
Scene Capture Type : Standard
Profile Description : Adobe RGB (1998)
Date/Time Digitized : 2010:07:30 20:38:56.14-07:00
Exif Image Width : 1500
Exif Image Height : 1015
Rating : 5
Creator Tool : Adobe Photoshop Lightroom
Serial Number : 320108655
Lens Info : 18mm f/?
Lens : Zeiss Distagon T* 3.5/18 ZE
Image Number : 0
Flash Compensation : 0
Owner Name : Gary B. Cook
Firmware : 2.0.4
Version : 6.1
Process Version : 5.7
Color Temperature : 2000
Tint : -23
Exposure : 0.00
Shadows : 5
Brightness : +65
Contrast : +25
Saturation : 0
Sharpness : 76
Luminance Smoothing : 68
Color Noise Reduction : 25
Chromatic Aberration R : -11
Chromatic Aberration B : -4
Vignette Amount : 0
Shadow Tint : 0
Red Hue : 0
Red Saturation : 0
Green Hue : 0
Green Saturation : 0
Blue Hue : 0
Blue Saturation : 0
Fill Light : 24
Vibrance : +36
Highlight Recovery : 0
Clarity : +21
Defringe : 0
Hue Adjustment Red : 0
Hue Adjustment Orange : 0
Hue Adjustment Yellow : 0
Hue Adjustment Green : 0
Hue Adjustment Aqua : 0
Hue Adjustment Blue : 0
Hue Adjustment Purple : 0
Hue Adjustment Magenta : 0
Saturation Adjustment Red : 0
Saturation Adjustment Orange : 0
Saturation Adjustment Yellow : 0
Saturation Adjustment Green : 0
Saturation Adjustment Aqua : 0
Saturation Adjustment Blue : 0
Saturation Adjustment Purple : 0
Saturation Adjustment Magenta : 0
Luminance Adjustment Red : 0
Luminance Adjustment Orange : 0
Luminance Adjustment Yellow : 0
Luminance Adjustment Green : 0
Luminance Adjustment Aqua : 0
Luminance Adjustment Blue : 0
Luminance Adjustment Purple : 0
Luminance Adjustment Magenta : 0
Split Toning Shadow Hue : 0
Split Toning Shadow Saturation : 0
Split Toning Highlight Hue : 0
Split Toning Highlight Saturation : 0
Split Toning Balance : 0
Parametric Shadows : 0
Parametric Darks : 0
Parametric Lights : 0
Parametric Highlights : 0
Parametric Shadow Split : 25
Parametric Midtone Split : 50
Parametric Highlight Split : 75
Sharpen Radius : +1.0
Sharpen Detail : 45
Sharpen Edge Masking : 66
Post Crop Vignette Amount : 0
Grain Amount : 0
Luminance Noise Reduction Detail : 90
Color Noise Reduction Detail : 50
Luminance Noise Reduction Contrast : 0
Lens Profile Enable : 0
Lens Manual Distortion Amount : 0
Perspective Vertical : -24
Perspective Horizontal : 0
Perspective Rotate : 0.0
Perspective Scale : 100
Convert To Grayscale : False
Tone Curve Name : Medium Contrast
Camera Profile : Adobe Standard
Lens Profile Setup : LensDefaults
Has Settings : True
Crop Top : 0.029208
Crop Left : 0.036984
Crop Bottom : 0.957601
Crop Right : 0.951998
Crop Angle : 0
Crop Constrain To Warp : 1
Crop Width : 1500
Crop Height : 1015
Crop Unit : pixels
Has Crop : True
Already Applied : True
Flash Fired : False
Flash Return : No return detection
Flash Mode : Off
Flash Function : False
Flash Red Eye Mode : False
Creator : Photographer: Gary B. Cook
Rights : Copyright: Gary B. Cook
Subject : Festival, Santa Palua
Tone Curve : 0, 0, 32, 22, 64, 56, 128, 128, 192, 196, 255, 255
Image Width : 300
Image Height : 203
Bits Per Sample : 8
Color Components : 3
Aperture : 8.0
Image Size : 300x203
Megapixels : 0.061
Scale Factor To 35 mm Equivalent : 1.0
Shutter Speed : 0.3
Create Date : 2010:07:30 20:38:56.14
Date/Time Original : 2010:07:30 20:38:56.14
Flash : Off, Did not fire
Circle Of Confusion : 0.031 mm
Field Of View : 91.4 deg
Focal Length : 18.0 mm (35 mm equivalent: 17.6 mm)
Hyperfocal Distance : 1.32 m
Light Value : 2.7
Lens ID : Carl Zeiss Distagon T* 18mm f/3.5 ZE