Uber Exif Photo
Copyright Notice : ROCKPORT5@GMAIL.COM
Make : NIKON CORPORATION
Camera Model Name : NIKON D3
Orientation : Horizontal (normal)
Software : Adobe Photoshop CS4 Macintosh
Modify Date : 2010:01:16 19:45:43
Copyright : ROCKPORT5@GMAIL.COM
Exposure Time : 1/400
F Number : 2.8
Exposure Program : Aperture-priority AE
ISO : 1600
Date/Time Original : 2010:01:11 09:13:18
Create Date : 2010:01:11 09:13:18
Shutter Speed Value : 1/400
Aperture Value : 2.8
Exposure Compensation : -1/3
Max Aperture Value : 1.0
Metering Mode : Multi-segment
Light Source : Unknown
Focal Length : 20.0 mm
User Comment : LAS-VEGAS.2010
Color Space : sRGB
Exif Image Width : 1600
Exif Image Height : 1084
Sensing Method : One-chip color area
Scene Type : Directly photographed
Custom Rendered : Normal
Exposure Mode : Auto
White Balance : Auto
Digital Zoom Ratio : 1
Focal Length In 35mm Format : 20 mm
Scene Capture Type : Standard
Gain Control : High gain up
Contrast : Normal
Saturation : Normal
Sharpness : Normal
Subject Distance Range : Unknown
Profile Description : sRGB IEC61966-2.1
Rating : 0
Creator Tool : Capture NX 2.0.0 M
Rating Percent : 0
Date Created : 2010:01:11
Date/Time Digitized : 2010:01:11 09:13:18.15-05:00
Format : image/jpeg
Serial Number : 2062639
Image Number : 61153
Raw File Name : _LSV8690 copy.jpg
Version : 5.6
Incremental Temperature : +3
Incremental Tint : 0
Exposure : 0.00
Shadows : 0
Brightness : 0
Luminance Smoothing : 0
Color Noise Reduction : 0
Chromatic Aberration R : 0
Chromatic Aberration B : 0
Vignette Amount : 0
Shadow Tint : 0
Red Hue : 0
Red Saturation : 0
Green Hue : 0
Green Saturation : 0
Blue Hue : 0
Blue Saturation : 0
Fill Light : 0
Vibrance : 0
Highlight Recovery : 26
Clarity : 0
Defringe : 0
Hue Adjustment Red : 0
Hue Adjustment Orange : 0
Hue Adjustment Yellow : 0
Hue Adjustment Green : 0
Hue Adjustment Aqua : 0
Hue Adjustment Blue : 0
Hue Adjustment Purple : 0
Hue Adjustment Magenta : 0
Saturation Adjustment Red : 0
Saturation Adjustment Orange : 0
Saturation Adjustment Yellow : 0
Saturation Adjustment Green : 0
Saturation Adjustment Aqua : 0
Saturation Adjustment Blue : 0
Saturation Adjustment Purple : 0
Saturation Adjustment Magenta : 0
Luminance Adjustment Red : 0
Luminance Adjustment Orange : 0
Luminance Adjustment Yellow : 0
Luminance Adjustment Green : 0
Luminance Adjustment Aqua : 0
Luminance Adjustment Blue : 0
Luminance Adjustment Purple : 0
Luminance Adjustment Magenta : 0
Split Toning Shadow Hue : 0
Split Toning Shadow Saturation : 0
Split Toning Highlight Hue : 0
Split Toning Highlight Saturation : 0
Split Toning Balance : 0
Parametric Shadows : 0
Parametric Darks : 0
Parametric Lights : 0
Parametric Highlights : 0
Parametric Shadow Split : 25
Parametric Midtone Split : 50
Parametric Highlight Split : 75
Sharpen Radius : +1.0
Sharpen Detail : 25
Sharpen Edge Masking : 0
Post Crop Vignette Amount : 0
Convert To Grayscale : False
Tone Curve Name : Linear
Camera Profile : Embedded
Has Settings : True
Has Crop : False
Already Applied : False
Flash Fired : False
Flash Return : No return detection
Flash Mode : Unknown
Flash Function : False
Flash Red Eye Mode : False
Rights : ROCKPORT5@GMAIL.COM
Tone Curve : 0, 0, 255, 255
Image Width : 300
Image Height : 203
Bits Per Sample : 8
Color Components : 3
Aperture : 2.8
Image Size : 300x203
Megapixels : 0.061
Scale Factor To 35 mm Equivalent : 1.0
Shutter Speed : 1/400
Create Date : 2010:01:11 09:13:18.15
Date/Time Original : 2010:01:11 09:13:18.15
Modify Date : 2010:01:16 19:45:43.15
Flash : No Flash
Circle Of Confusion : 0.030 mm
Field Of View : 84.0 deg
Focal Length : 20.0 mm (35 mm equivalent: 20.0 mm)
Hyperfocal Distance : 4.75 m
Light Value : 7.6