Uber Exif Photo
Make : Canon
Camera Model Name : Canon EOS 5D Mark II
Orientation : Horizontal (normal)
Software : Digital Photo Professional
Modify Date : 2010:05:05 13:08:45
Exposure Time : 1/100
F Number : 2.8
ISO : 400
Date/Time Original : 2010:05:05 13:08:45
Create Date : 2010:05:05 13:08:45
Shutter Speed Value : 1/100
Aperture Value : 2.8
Focal Length : 100.0 mm
Macro Mode : Unknown (0)
Self Timer : Off
Quality : Fine
Canon Flash Mode : n/a
Continuous Drive : Unknown (-1)
Focus Mode : Single
Canon Image Size : n/a
Easy Mode : Unknown (-1)
Digital Zoom : None
Metering Mode : Unknown (-1)
Focus Range : Not Known
Canon Exposure Mode : Unknown (-1)
Lens Type : n/a
Max Focal Length : 0 mm
Min Focal Length : 0 mm
Focal Units : 32/mm
Flash Bits : (none)
Zoom Source Width : 0
Zoom Target Width : 0
Manual Flash Output : n/a
SRAW Quality : n/a
Auto ISO : 100
Base ISO : 400
Measured EV : 5.00
Target Aperture : 2.8
Target Exposure Time : 1/101
Exposure Compensation : 0
White Balance : Unknown (-1)
Slow Shutter : None
Shot Number In Continuous Burst : 0
Optical Zoom Code : n/a
Flash Guide Number : 0
Flash Exposure Compensation : 0
Auto Exposure Bracketing : Off
AEB Bracket Value : 0
Control Mode : n/a
Bulb Duration : 0
Camera Type : n/a
ND Filter : n/a
Canon Image Type :
Canon Firmware Version :
File Number : 0
Owner Name :
User Comment :
Color Space : sRGB
Exif Image Width : 1260
Exif Image Height : 840
Related Image Width : 1260
Related Image Height : 840
Custom Rendered : Normal
Exposure Mode : Manual
Scene Capture Type : Standard
Profile Description : sRGB v1.31 (Canon)
Exposure Program : Manual
Date/Time Digitized : 2010:05:05 13:08:45.42-04:00
Max Aperture Value : 2.0
Rating : 5
Creator Tool : Adobe Photoshop CS3 Macintosh
Serial Number : 1320800030
Lens Info : 100mm f/?
Image Number : 0
Flash Compensation : 0
Firmware : 2.0.4
Raw File Name : 050510_2436.dng
Version : 4.6
Color Temperature : 4400
Tint : +4
Exposure : 0.00
Shadows : 6
Brightness : +53
Contrast : +53
Saturation : 0
Sharpness : 25
Luminance Smoothing : 0
Color Noise Reduction : 25
Chromatic Aberration R : 0
Chromatic Aberration B : 0
Vignette Amount : 0
Shadow Tint : 0
Red Hue : 0
Red Saturation : 0
Green Hue : 0
Green Saturation : 0
Blue Hue : 0
Blue Saturation : 0
Fill Light : 0
Vibrance : 0
Highlight Recovery : 14
Clarity : +28
Defringe : 0
Hue Adjustment Red : 0
Hue Adjustment Orange : 0
Hue Adjustment Yellow : 0
Hue Adjustment Green : 0
Hue Adjustment Aqua : 0
Hue Adjustment Blue : 0
Hue Adjustment Purple : 0
Hue Adjustment Magenta : 0
Saturation Adjustment Red : 0
Saturation Adjustment Orange : 0
Saturation Adjustment Yellow : 0
Saturation Adjustment Green : 0
Saturation Adjustment Aqua : 0
Saturation Adjustment Blue : 0
Saturation Adjustment Purple : 0
Saturation Adjustment Magenta : 0
Luminance Adjustment Red : 0
Luminance Adjustment Orange : 0
Luminance Adjustment Yellow : 0
Luminance Adjustment Green : 0
Luminance Adjustment Aqua : 0
Luminance Adjustment Blue : 0
Luminance Adjustment Purple : 0
Luminance Adjustment Magenta : 0
Split Toning Shadow Hue : 0
Split Toning Shadow Saturation : 0
Split Toning Highlight Hue : 0
Split Toning Highlight Saturation : 0
Split Toning Balance : 0
Parametric Shadows : 0
Parametric Darks : 0
Parametric Lights : 0
Parametric Highlights : 0
Parametric Shadow Split : 25
Parametric Midtone Split : 50
Parametric Highlight Split : 75
Sharpen Radius : +1.0
Sharpen Detail : 25
Sharpen Edge Masking : 0
Post Crop Vignette Amount : 0
Convert To Grayscale : False
Tone Curve Name : Medium Contrast
Camera Profile : Adobe Standard
Has Settings : True
Has Crop : False
Already Applied : True
Format : image/jpeg
Color Mode : RGB
ICC Profile Name : Adobe RGB (1998)
Flash Fired : False
Flash Return : No return detection
Flash Mode : Off
Flash Function : False
Flash Red Eye Mode : False
Tone Curve : 0, 0, 32, 22, 64, 56, 128, 128, 192, 196, 255, 255
Derived From :
Image Width : 300
Image Height : 200
Bits Per Sample : 8
Color Components : 3
Drive Mode : Continuous Shooting
Lens : 0.0 mm
Shooting Mode : Unknown (-1)
Aperture : 2.8
Image Size : 300x200
Lens ID : n/a
Megapixels : 0.060
Scale Factor To 35 mm Equivalent : 1.0
Shutter Speed : 1/100
Flash : Off, Did not fire
Lens : 0.0 mm (35 mm equivalent: 0.0 mm)
Circle Of Confusion : 0.031 mm
Field Of View : 20.9 deg
Focal Length : 100.0 mm (35 mm equivalent: 97.6 mm)
Hyperfocal Distance : 116.00 m
Light Value : 7.6