Uber Exif Photo
Keywords : Lightroom 2
By-line : Gary B Cook
Make : Canon
Camera Model Name : Canon EOS 5D
Modify Date : 2010:06:22 01:38:20
Artist : Gary B Cook
Exposure Time : 1/250
F Number : 8.0
Exposure Program : Aperture-priority AE
ISO : 100
Date/Time Original : 2010:05:31 17:38:51
Create Date : 2010:05:31 17:38:51
Shutter Speed Value : 1/250
Aperture Value : 8.0
Exposure Compensation : 0
Max Aperture Value : 3.5
Metering Mode : Multi-segment
Focal Length : 18.0 mm
Custom Rendered : Normal
Exposure Mode : Auto
White Balance : Manual
Scene Capture Type : Standard
Profile Description : Adobe RGB (1998)
Date/Time Digitized : 2010:05:31 17:38:51-07:00
Exif Image Width : 2043
Exif Image Height : 1000
Rating : 2
Creator Tool : Adobe Photoshop Lightroom
Serial Number : 2221201302
Lens Info : 18mm f/?
Lens : 18.0 mm
Image Number : 2
Flash Compensation : 0
Owner Name : Gary B Cook
Firmware : 1.1.0
Version : 6.1
Process Version : 5.7
Color Temperature : 3745
Tint : -18
Exposure : 0.00
Shadows : 0
Brightness : +27
Contrast : 0
Sharpness : 35
Luminance Smoothing : 80
Color Noise Reduction : 0
Chromatic Aberration R : -14
Chromatic Aberration B : 0
Vignette Amount : 0
Shadow Tint : 0
Red Hue : 0
Red Saturation : 0
Green Hue : 0
Green Saturation : 0
Blue Hue : 0
Blue Saturation : 0
Fill Light : 0
Highlight Recovery : 0
Clarity : 0
Defringe : 2
Gray Mixer Red : +61
Gray Mixer Orange : -19
Gray Mixer Yellow : -23
Gray Mixer Green : -27
Gray Mixer Aqua : -100
Gray Mixer Blue : -60
Gray Mixer Purple : -25
Gray Mixer Magenta : -100
Split Toning Shadow Hue : 0
Split Toning Shadow Saturation : 0
Split Toning Highlight Hue : 238
Split Toning Highlight Saturation : 20
Split Toning Balance : 0
Parametric Shadows : -30
Parametric Darks : -15
Parametric Lights : +17
Parametric Highlights : +16
Parametric Shadow Split : 25
Parametric Midtone Split : 50
Parametric Highlight Split : 75
Sharpen Radius : +1.4
Sharpen Detail : 15
Sharpen Edge Masking : 60
Post Crop Vignette Amount : 0
Grain Amount : 88
Grain Size : 24
Grain Frequency : 55
Luminance Noise Reduction Detail : 21
Luminance Noise Reduction Contrast : 0
Lens Profile Enable : 0
Lens Manual Distortion Amount : 0
Perspective Vertical : 0
Perspective Horizontal : 0
Perspective Rotate : 0.0
Perspective Scale : 100
Convert To Grayscale : True
Tone Curve Name : Medium Contrast
Camera Profile : Adobe Standard
Lens Profile Setup : LensDefaults
Has Settings : True
Crop Top : 0.205089
Crop Left : 0
Crop Bottom : 0.939369
Crop Right : 1
Crop Angle : 0
Crop Constrain To Warp : 0
Crop Width : 2043
Crop Height : 1000
Crop Unit : pixels
Has Crop : True
Already Applied : True
Flash Fired : False
Flash Return : No return detection
Flash Mode : Off
Flash Function : False
Flash Red Eye Mode : False
Creator : Gary B Cook
Subject : Lightroom 2
Tone Curve : 0, 0, 32, 22, 64, 56, 128, 128, 192, 196, 255, 255
Paint Correction What : Correction
Paint Correction Amount : 1.000000
Paint Correction Active : true
Paint Correction Exposure : 0.157895
Paint Correction Saturation : 0.000000
Paint Correction Contrast : 0.000000
Paint Correction Clarity : 0.000000
Paint Correction Sharpness : 0.000000
Paint Correction Brightness : 0.157895
Paint Correction Toning Hue : 240.000000
Paint Correction Toning Saturation : 0.000000
Paint Correction Mask What : Mask/Paint
Paint Correction Mask Value : 0.938389
Paint Correction Mask Radius : 0.013589
Paint Correction Mask Flow : 0.840474
Paint Correction Mask Center Weight : 0.003963
Gradient Based Corr What : Correction
Gradient Based Corr Amount : 1.000000
Gradient Based Corr Active : true
Gradient Based Corr Exposure : -0.272727
Gradient Based Corr Saturation : 0.000000
Gradient Based Corr Contrast : 0.000000
Gradient Based Corr Clarity : 0.000000
Gradient Based Corr Sharpness : 0.000000
Gradient Based Corr Brightness : -0.282297
Gradient Based Corr Toning Hue : 240.000000
Gradient Based Corr Toning Saturation : 0.000000
Gradient Based Corr Mask What : Mask/Gradient
Gradient Based Corr Mask Value : 1.000000
Gradient Based Corr Mask Zero X : 0.383324
Gradient Based Corr Mask Zero Y : 0.411637
Gradient Based Corr Mask Full X : 0.579301
Gradient Based Corr Mask Full Y : -0.033057
Image Width : 300
Image Height : 147
Bits Per Sample : 8
Color Components : 3
Aperture : 8.0
Image Size : 300x147
Megapixels : 0.044
Scale Factor To 35 mm Equivalent : 1.0
Shutter Speed : 1/250
Flash : Off, Did not fire
Circle Of Confusion : 0.030 mm
Field Of View : 89.9 deg
Focal Length : 18.0 mm (35 mm equivalent: 18.0 mm)
Hyperfocal Distance : 1.35 m
Light Value : 14.0
Lens ID : 18.0mm