Uber Exif Photo
Caption-Abstract : KONICA MINOLTA DIGITAL CAMERA
By-line : £ukasz Cyrus
Province-State : Œlask
Country-Primary Location Name : Poland
Copyright Notice : £ukasz Cyrus
Copyright Flag : True
URL : www.shutter12.blogspot.com
Image Description : KONICA MINOLTA DIGITAL CAMERA
Make : KONICA MINOLTA
Camera Model Name : DYNAX 7D
Orientation : Horizontal (normal)
Software : Adobe Photoshop 7.0
Modify Date : 2010:06:12 21:14:40
Artist : ukasz Cyrus
Copyright : ukasz Cyrus
Exposure Time : 1/4000
F Number : 1.7
Exposure Program : Shutter speed priority AE
ISO : 100
Date/Time Original : 2010:06:12 20:32:58
Create Date : 2010:06:12 20:32:58
Shutter Speed Value : 1/4000
Aperture Value : 1.7
Brightness Value : -0.13
Exposure Compensation : 0
Max Aperture Value : 1.7
Metering Mode : Center-weighted average
Light Source : Flash
Focal Length : 50.0 mm
Subject Area : 1504 1000 3008 2000
Color Space : sRGB
Exif Image Width : 1000
Exif Image Height : 355
Custom Rendered : Normal
Exposure Mode : Auto
White Balance : Manual
Digital Zoom Ratio : 0
Focal Length In 35mm Format : 75 mm
Scene Capture Type : Standard
Gain Control : None
Contrast : Normal
Saturation : Normal
Sharpness : Normal
Creator Postal Code : 41-705
Creator Work Email : bestway1@neostrada.pl
Creator Work Telephone : +48506818872
Creator Region : Ślask
Creator City : Ruda Ślaska
Creator Address : Słowików 16
Creator Country : Poland
Creator Work URL : www.shutter12.blogspot.com
Version : 6.1
Process Version : 5.7
Color Temperature : 4023
Tint : -99
Exposure : +1.06
Shadows : 40
Brightness : +34
Luminance Smoothing : 0
Color Noise Reduction : 10
Chromatic Aberration R : 0
Chromatic Aberration B : 0
Vignette Amount : 0
Shadow Tint : 0
Red Hue : 0
Red Saturation : 0
Green Hue : 0
Green Saturation : 0
Blue Hue : 0
Blue Saturation : 0
Fill Light : 25
Vibrance : 0
Highlight Recovery : 16
Clarity : +56
Defringe : 0
Hue Adjustment Red : 0
Hue Adjustment Orange : 0
Hue Adjustment Yellow : 0
Hue Adjustment Green : 0
Hue Adjustment Aqua : 0
Hue Adjustment Blue : 0
Hue Adjustment Purple : 0
Hue Adjustment Magenta : 0
Saturation Adjustment Red : -7
Saturation Adjustment Orange : -10
Saturation Adjustment Yellow : 0
Saturation Adjustment Green : 0
Saturation Adjustment Aqua : 0
Saturation Adjustment Blue : 0
Saturation Adjustment Purple : 0
Saturation Adjustment Magenta : 0
Luminance Adjustment Red : 0
Luminance Adjustment Orange : -1
Luminance Adjustment Yellow : 0
Luminance Adjustment Green : 0
Luminance Adjustment Aqua : 0
Luminance Adjustment Blue : 0
Luminance Adjustment Purple : 0
Luminance Adjustment Magenta : 0
Split Toning Shadow Hue : 246
Split Toning Shadow Saturation : 89
Split Toning Highlight Hue : 37
Split Toning Highlight Saturation : 26
Split Toning Balance : +44
Parametric Shadows : +33
Parametric Darks : -24
Parametric Lights : -3
Parametric Highlights : +92
Parametric Shadow Split : 25
Parametric Midtone Split : 50
Parametric Highlight Split : 75
Sharpen Radius : +1.4
Sharpen Detail : 15
Sharpen Edge Masking : 60
Post Crop Vignette Amount : -35
Post Crop Vignette Midpoint : 50
Post Crop Vignette Feather : 50
Post Crop Vignette Roundness : 0
Post Crop Vignette Style : Highlight Priority
Post Crop Vignette Highlight Contrast : 0
Grain Amount : 0
Color Noise Reduction Detail : 50
Lens Profile Enable : 0
Lens Manual Distortion Amount : 0
Perspective Vertical : 0
Perspective Horizontal : 0
Perspective Rotate : 0.0
Perspective Scale : 100
Convert To Grayscale : False
Tone Curve Name : Medium Contrast
Camera Profile : Adobe Standard
Lens Profile Setup : LensDefaults
Has Settings : True
Crop Top : 0
Crop Left : 0.427069
Crop Bottom : 1
Crop Right : 0.743352
Crop Angle : 45
Crop Constrain To Warp : 0
Crop Width : 1000
Crop Height : 355
Crop Unit : pixels
Has Crop : True
Already Applied : True
Tone Curve : 0, 0, 32, 22, 64, 56, 128, 128, 192, 196, 255, 255
Date/Time Digitized : 2010:06:12 20:32:58+02:00
Flash Fired : True
Flash Return : No return detection
Flash Mode : On
Flash Function : False
Flash Red Eye Mode : False
Flash Compensation : 0
Country : Poland
City : Ruda Ślaska
Date Created : 2009:12:29
State : Ślask
Creator Tool : Adobe Photoshop Lightroom
Marked : True
Web Statement : www.shutter12.blogspot.com
Description : KONICA MINOLTA DIGITAL CAMERA
Creator : Łukasz Cyrus
Rights : Łukasz Cyrus
Image Width : 300
Image Height : 107
Bits Per Sample : 8
Color Components : 3
Aperture : 1.7
Image Size : 300x107
Megapixels : 0.032
Scale Factor To 35 mm Equivalent : 1.5
Shutter Speed : 1/4000
Flash : On, Fired
Circle Of Confusion : 0.020 mm
Field Of View : 27.0 deg
Focal Length : 50.0 mm (35 mm equivalent: 75.0 mm)
Hyperfocal Distance : 73.42 m
Light Value : 13.5