Uber Exif Photo
Caption-Abstract : Henry's 1st Birthday
By-line : B.J. Kirkendoll
Object Name : Henry Age 1
Keywords : BJ Family
Copyright Flag : True
Image Description : Henry's 1st Birthday
Make : SONY
Camera Model Name : DSLR-A350
Orientation : Horizontal (normal)
Software : Adobe Photoshop Elements 6.0 Windows
Modify Date : 2010:06:13 16:30:58
Artist : B.J. Kirkendoll
Exposure Time : 1/125
F Number : 5.6
Exposure Program : Program AE
ISO : 100
Date/Time Original : 2010:04:01 12:06:24
Create Date : 2010:04:01 12:06:24
Shutter Speed Value : 1/125
Aperture Value : 5.6
Brightness Value : 7.12
Exposure Compensation : 0
Max Aperture Value : 4.0
Metering Mode : Multi-segment
Light Source : Unknown
Focal Length : 30.0 mm
Color Space : sRGB
Exif Image Width : 857
Exif Image Height : 1200
Scene Type : Directly photographed
Custom Rendered : Normal
Exposure Mode : Auto
White Balance : Auto
Focal Length In 35mm Format : 45 mm
Scene Capture Type : Standard
Contrast : Normal
Saturation : Normal
Sharpness : Normal
Profile Description : sRGB IEC61966-2.1
Date/Time Digitized : 2010:04:01 12:06:24-05:00
Creator Tool : Adobe Photoshop Elements 6.0 Windows
Rating : 0
Format : image/jpeg
Raw File Name : HAW-1.ARW
Version : 5.4
Color Temperature : 5050
Tint : +14
Exposure : +1.55
Shadows : 8
Brightness : +33
Luminance Smoothing : 0
Color Noise Reduction : 25
Chromatic Aberration R : 0
Chromatic Aberration B : 0
Vignette Amount : 0
Shadow Tint : 0
Red Hue : 0
Red Saturation : 0
Green Hue : 0
Green Saturation : 0
Blue Hue : 0
Blue Saturation : 0
Fill Light : 21
Vibrance : +8
Highlight Recovery : 40
Clarity : +36
Defringe : 0
Hue Adjustment Red : 0
Hue Adjustment Orange : 0
Hue Adjustment Yellow : 0
Hue Adjustment Green : 0
Hue Adjustment Aqua : 0
Hue Adjustment Blue : 0
Hue Adjustment Purple : 0
Hue Adjustment Magenta : 0
Saturation Adjustment Red : 0
Saturation Adjustment Orange : 0
Saturation Adjustment Yellow : 0
Saturation Adjustment Green : 0
Saturation Adjustment Aqua : 0
Saturation Adjustment Blue : 0
Saturation Adjustment Purple : 0
Saturation Adjustment Magenta : 0
Luminance Adjustment Red : 0
Luminance Adjustment Orange : 0
Luminance Adjustment Yellow : 0
Luminance Adjustment Green : 0
Luminance Adjustment Aqua : 0
Luminance Adjustment Blue : 0
Luminance Adjustment Purple : 0
Luminance Adjustment Magenta : 0
Split Toning Shadow Hue : 0
Split Toning Shadow Saturation : 0
Split Toning Highlight Hue : 0
Split Toning Highlight Saturation : 0
Split Toning Balance : 0
Parametric Shadows : 0
Parametric Darks : 0
Parametric Lights : 0
Parametric Highlights : 0
Parametric Shadow Split : 25
Parametric Midtone Split : 50
Parametric Highlight Split : 75
Sharpen Radius : +1.0
Sharpen Detail : 25
Sharpen Edge Masking : 0
Post Crop Vignette Amount : 0
Convert To Grayscale : False
Tone Curve Name : Medium Contrast
Camera Profile : ACR 4.4
Has Settings : True
Crop Top : 0.113855
Crop Left : 0.105474
Crop Bottom : 0.987952
Crop Right : 0.919877
Crop Angle : 0
Crop Width : 5
Crop Height : 7
Crop Unit : Unknown (3)
Has Crop : True
Already Applied : True
Sidecar For Extension : ARW
Color Mode : RGB
ICC Profile Name : sRGB IEC61966-2.1
Marked : True
Flash Fired : True
Flash Return : No return detection
Flash Mode : On
Flash Function : False
Flash Red Eye Mode : False
Description : Henry's 1st Birthday
Subject : BJ Family
Title : Henry Age 1
Creator : B.J. Kirkendoll
Tone Curve : 0, 0, 32, 22, 64, 56, 128, 128, 192, 196, 255, 255
Image Width : 214
Image Height : 300
Bits Per Sample : 8
Color Components : 3
Aperture : 5.6
Image Size : 214x300
Megapixels : 0.064
Scale Factor To 35 mm Equivalent : 1.5
Shutter Speed : 1/125
Flash : On, Fired
Circle Of Confusion : 0.020 mm
Field Of View : 43.6 deg
Focal Length : 30.0 mm (35 mm equivalent: 45.0 mm)
Hyperfocal Distance : 8.02 m
Light Value : 11.9