Uber Exif Photo
Copyright Flag : False
Make : Canon
Camera Model Name : Canon EOS 450D
Orientation : Horizontal (normal)
Software : Adobe Photoshop CS3 Windows
Modify Date : 2010:06:01 10:21:05
Exposure Time : 1/320
Exposure Program : Aperture-priority AE
ISO : 100
Date/Time Original : 2010:06:01 09:11:34
Create Date : 2010:06:01 09:11:34
Shutter Speed Value : 1/320
Exposure Compensation : -1
Metering Mode : Center-weighted average
Color Space : sRGB
Exif Image Width : 596
Exif Image Height : 892
Custom Rendered : Normal
Exposure Mode : Auto
White Balance : Auto
Scene Capture Type : Standard
Date/Time Digitized : 2010:06:01 09:11:34.97+03:00
Creator Tool : Adobe Photoshop CS3 Windows
Serial Number : 1730520389
Image Number : 0
Flash Compensation : 0
Firmware : 1.1.0
Version : 4.5
Color Temperature : 4619
Tint : -74
Exposure : +1.33
Shadows : 18
Brightness : +59
Contrast : +9
Saturation : -100
Sharpness : 73
Luminance Smoothing : 29
Color Noise Reduction : 25
Chromatic Aberration R : 0
Chromatic Aberration B : 0
Vignette Amount : -64
Vignette Midpoint : 50
Shadow Tint : 0
Red Hue : 0
Red Saturation : 0
Green Hue : 0
Green Saturation : 0
Blue Hue : 0
Blue Saturation : 0
Fill Light : 0
Vibrance : 0
Highlight Recovery : 0
Clarity : +50
Defringe : 0
Hue Adjustment Red : 0
Hue Adjustment Orange : 0
Hue Adjustment Yellow : 0
Hue Adjustment Green : 0
Hue Adjustment Aqua : 0
Hue Adjustment Blue : 0
Hue Adjustment Purple : 0
Hue Adjustment Magenta : 0
Saturation Adjustment Red : 0
Saturation Adjustment Orange : 0
Saturation Adjustment Yellow : 0
Saturation Adjustment Green : 0
Saturation Adjustment Aqua : 0
Saturation Adjustment Blue : 0
Saturation Adjustment Purple : 0
Saturation Adjustment Magenta : 0
Luminance Adjustment Red : 0
Luminance Adjustment Orange : 0
Luminance Adjustment Yellow : 0
Luminance Adjustment Green : 0
Luminance Adjustment Aqua : 0
Luminance Adjustment Blue : 0
Luminance Adjustment Purple : 0
Luminance Adjustment Magenta : 0
Split Toning Shadow Hue : 0
Split Toning Shadow Saturation : 0
Split Toning Highlight Hue : 0
Split Toning Highlight Saturation : 0
Split Toning Balance : 0
Parametric Shadows : -14
Parametric Darks : -3
Parametric Lights : 0
Parametric Highlights : 0
Parametric Shadow Split : 25
Parametric Midtone Split : 50
Parametric Highlight Split : 75
Sharpen Radius : +1.0
Sharpen Detail : 50
Sharpen Edge Masking : 0
Post Crop Vignette Amount : -19
Post Crop Vignette Midpoint : 50
Post Crop Vignette Feather : 50
Post Crop Vignette Roundness : 0
Convert To Grayscale : False
Tone Curve Name : Linear
Camera Profile : ACR 2.4
Has Settings : True
Has Crop : False
Already Applied : True
Format : image/jpeg
Color Mode : RGB
ICC Profile Name : sRGB IEC61966-2.1
Flash Fired : False
Flash Return : No return detection
Flash Mode : Off
Flash Function : False
Flash Red Eye Mode : False
Tone Curve : 0, 0, 255, 255
Derived From :
Image Width : 200
Image Height : 300
Bits Per Sample : 8
Color Components : 1
Image Size : 200x300
Megapixels : 0.060
Scale Factor To 35 mm Equivalent : 1.6
Shutter Speed : 1/320
Create Date : 2010:06:01 09:11:34.97
Date/Time Original : 2010:06:01 09:11:34.97
Flash : Off, Did not fire
Circle Of Confusion : 0.019 mm