Uber Exif Photo
By-line : Nathan M Barnett
Copyright Notice : 2010 Nathan M Barnett
Make : Canon
Camera Model Name : Canon EOS REBEL T1i
Modify Date : 2010:05:18 17:20:58
Artist : Nathan M Barnett
Copyright : 2010 Nathan M Barnett
Exposure Time : 1/125
Exposure Program : Manual
ISO : 100
Date/Time Original : 2010:04:03 12:59:05
Create Date : 2010:04:03 12:59:05
Shutter Speed Value : 1/125
Exposure Compensation : 0
Metering Mode : Multi-segment
Custom Rendered : Normal
Exposure Mode : Manual
White Balance : Auto
Scene Capture Type : Standard
Profile Description : sRGB IEC61966-2.1
Date/Time Digitized : 2010:04:03 12:59:05.90-07:00
Exif Image Width : 1600
Exif Image Height : 1067
Serial Number : 1070425154
Image Number : 0
Flash Compensation : 0
Owner Name : Nathan M Barnett
Firmware : 1.0.9
Version : 6.0
Process Version : 5.7
Color Temperature : 4700
Tint : -4
Exposure : 0.00
Shadows : 24
Brightness : +8
Contrast : +52
Saturation : 0
Sharpness : 25
Luminance Smoothing : 0
Color Noise Reduction : 25
Chromatic Aberration R : 0
Chromatic Aberration B : 0
Vignette Amount : 0
Shadow Tint : 0
Red Hue : 0
Red Saturation : 0
Green Hue : 0
Green Saturation : 0
Blue Hue : 0
Blue Saturation : 0
Fill Light : 0
Vibrance : 0
Highlight Recovery : 8
Clarity : 0
Defringe : 0
Hue Adjustment Red : 0
Hue Adjustment Orange : 0
Hue Adjustment Yellow : 0
Hue Adjustment Green : 0
Hue Adjustment Aqua : 0
Hue Adjustment Blue : 0
Hue Adjustment Purple : 0
Hue Adjustment Magenta : 0
Saturation Adjustment Red : 0
Saturation Adjustment Orange : 0
Saturation Adjustment Yellow : 0
Saturation Adjustment Green : 0
Saturation Adjustment Aqua : 0
Saturation Adjustment Blue : 0
Saturation Adjustment Purple : 0
Saturation Adjustment Magenta : 0
Luminance Adjustment Red : 0
Luminance Adjustment Orange : 0
Luminance Adjustment Yellow : 0
Luminance Adjustment Green : 0
Luminance Adjustment Aqua : 0
Luminance Adjustment Blue : 0
Luminance Adjustment Purple : 0
Luminance Adjustment Magenta : 0
Split Toning Shadow Hue : 0
Split Toning Shadow Saturation : 0
Split Toning Highlight Hue : 0
Split Toning Highlight Saturation : 0
Split Toning Balance : 0
Parametric Shadows : 0
Parametric Darks : -13
Parametric Lights : -46
Parametric Highlights : 0
Parametric Shadow Split : 25
Parametric Midtone Split : 50
Parametric Highlight Split : 75
Sharpen Radius : +1.0
Sharpen Detail : 25
Sharpen Edge Masking : 0
Post Crop Vignette Amount : 0
Grain Amount : 0
Color Noise Reduction Detail : 50
Convert To Grayscale : False
Tone Curve Name : Medium Contrast
Camera Profile : Adobe Standard
Has Settings : True
Has Crop : False
Already Applied : True
Flash Fired : False
Flash Return : No return detection
Flash Mode : Off
Flash Function : False
Flash Red Eye Mode : False
Creator : Nathan M Barnett
Rights : 2010 Nathan M Barnett
Tone Curve : 0, 0, 32, 22, 64, 56, 128, 128, 192, 196, 255, 255
Image Width : 300
Image Height : 200
Bits Per Sample : 8
Color Components : 3
Image Size : 300x200
Megapixels : 0.060
Scale Factor To 35 mm Equivalent : 1.6
Shutter Speed : 1/125
Create Date : 2010:04:03 12:59:05.90
Date/Time Original : 2010:04:03 12:59:05.90
Flash : Off, Did not fire
Circle Of Confusion : 0.019 mm