Uber Exif Photo
Make : SONY
Camera Model Name : DSC-R1
Modify Date : 2009:09:05 23:09:33
Exposure Time : 1/200
F Number : 4.8
Exposure Program : Aperture-priority AE
ISO : 160
Date/Time Original : 2009:09:05 15:22:13
Create Date : 2009:09:05 15:22:13
Shutter Speed Value : 1/200
Aperture Value : 4.8
Exposure Compensation : 0
Max Aperture Value : 2.8
Metering Mode : Multi-segment
Light Source : Daylight
Focal Length : 55.3 mm
Scene Type : Directly photographed
Custom Rendered : Normal
Exposure Mode : Auto
White Balance : Manual
Scene Capture Type : Standard
Contrast : Normal
Saturation : Normal
Sharpness : Normal
Profile Description : sRGB IEC61966-2.1
Date/Time Digitized : 2009:09:05 15:22:13+02:00
Exif Image Height : 1000
Exif Image Width : 1500
Creator Tool : Adobe Photoshop Lightroom
Lens Info : 14.3-71.5mm f/2.8-4.8
Lens : 14.3-71.5 mm f/2.8-4.8
Version : 5.2
Color Temperature : 5750
Tint : +41
Exposure : +0.33
Shadows : 24
Brightness : +45
Luminance Smoothing : 0
Color Noise Reduction : 25
Chromatic Aberration R : 0
Chromatic Aberration B : 0
Vignette Amount : -100
Vignette Midpoint : 20
Shadow Tint : 0
Red Hue : 0
Red Saturation : 0
Green Hue : 0
Green Saturation : 0
Blue Hue : 0
Blue Saturation : 0
Fill Light : 15
Vibrance : +100
Highlight Recovery : 20
Clarity : -27
Defringe : 0
Hue Adjustment Red : 0
Hue Adjustment Orange : 0
Hue Adjustment Yellow : 0
Hue Adjustment Green : 0
Hue Adjustment Aqua : 0
Hue Adjustment Blue : 0
Hue Adjustment Purple : 0
Hue Adjustment Magenta : 0
Saturation Adjustment Red : 0
Saturation Adjustment Orange : 0
Saturation Adjustment Yellow : 0
Saturation Adjustment Green : 0
Saturation Adjustment Aqua : 0
Saturation Adjustment Blue : 0
Saturation Adjustment Purple : 0
Saturation Adjustment Magenta : 0
Luminance Adjustment Red : 0
Luminance Adjustment Orange : 0
Luminance Adjustment Yellow : 0
Luminance Adjustment Green : 0
Luminance Adjustment Aqua : 0
Luminance Adjustment Blue : 0
Luminance Adjustment Purple : 0
Luminance Adjustment Magenta : 0
Split Toning Shadow Hue : 244
Split Toning Shadow Saturation : 38
Split Toning Highlight Hue : 55
Split Toning Highlight Saturation : 31
Split Toning Balance : +53
Parametric Shadows : +8
Parametric Darks : -2
Parametric Lights : +2
Parametric Highlights : 0
Parametric Shadow Split : 14
Parametric Midtone Split : 50
Parametric Highlight Split : 75
Sharpen Radius : +1.0
Sharpen Detail : 25
Sharpen Edge Masking : 0
Post Crop Vignette Amount : -100
Post Crop Vignette Midpoint : 5
Post Crop Vignette Feather : 62
Post Crop Vignette Roundness : -100
Convert To Grayscale : False
Tone Curve Name : Medium Contrast
Camera Profile : Adobe Standard
Has Settings : True
Has Crop : False
Already Applied : True
Flash Fired : False
Flash Return : No return detection
Flash Mode : Off
Flash Function : False
Flash Red Eye Mode : False
Tone Curve : 0, 0, 32, 22, 64, 56, 128, 128, 192, 196, 255, 255
Image Width : 300
Image Height : 200
Bits Per Sample : 8
Color Components : 3
Aperture : 4.8
Image Size : 300x200
Megapixels : 0.060
Shutter Speed : 1/200
Flash : Off, Did not fire
Light Value : 11.5
Lens ID : 14.3-71.5mm f/2.8-4.8