Uber Exif Photo
Make : FUJIFILM
Camera Model Name : X-T2
Software : Adobe Photoshop Lightroom Classic 15.3 (Windows)
Modify Date : 2026:05:13 10:30:15
Exposure Time : 1/125
F Number : 1.0
Exposure Program : Manual
ISO : 800
Sensitivity Type : Standard Output Sensitivity
Date/Time Original : 2026:05:13 06:29:16
Create Date : 2026:05:13 06:29:16
Shutter Speed Value : 1/125
Aperture Value : 1.0
Brightness Value : -3.41
Exposure Compensation : 0
Metering Mode : Average
Light Source : Unknown
Flash : No Flash
Focal Length : 35.0 mm
Color Space : sRGB
Sensing Method : One-chip color area
Scene Type : Directly photographed
Custom Rendered : Normal
Exposure Mode : Manual
White Balance : Auto
Focal Length In 35mm Format : 53 mm
Scene Capture Type : Standard
Sharpness : Normal
Subject Distance Range : Unknown
Serial Number : 73A00269
Lens Info : 35mm f/?
Lens Model : 35.0 mm
Profile Description : sRGB IEC61966-2.1
Creator Tool : Adobe Photoshop Lightroom Classic 15.3 (Windows)
Fuji Rating Already Applied : True
Lens : 35.0 mm
Lateral Chromatic Aberration Correction Already Applied:
True
Date Created : 2026:05:13 06:29:16
Preserved File Name : DSCF9879.RAF
Format : image/jpeg
Pick : 0
Raw File Name : DSCF9879.dng
Version : 18.3
Compatible Version : 285212672
Process Version : 15.4
Color Temperature : 5000
Tint : +28
Exposure 2012 : +2.63
Contrast 2012 : +5
Highlights 2012 : -62
Shadows 2012 : +55
Whites 2012 : +30
Blacks 2012 : -10
Texture : +20
Clarity 2012 : +15
Dehaze : 0
Vibrance : +40
Saturation : +20
Parametric Shadows : 0
Parametric Darks : 0
Parametric Lights : 0
Parametric Highlights : 0
Parametric Shadow Split : 25
Parametric Midtone Split : 50
Parametric Highlight Split : 75
Sharpen Radius : +1.0
Sharpen Detail : 25
Sharpen Edge Masking : 0
Luminance Smoothing : 0
Color Noise Reduction : 0
Hue Adjustment Red : +10
Hue Adjustment Orange : +5
Hue Adjustment Yellow : -10
Hue Adjustment Green : -70
Hue Adjustment Aqua : -5
Hue Adjustment Blue : -25
Hue Adjustment Purple : -80
Hue Adjustment Magenta : -30
Saturation Adjustment Red : +5
Saturation Adjustment Orange : +20
Saturation Adjustment Yellow : -10
Saturation Adjustment Green : -50
Saturation Adjustment Aqua : -20
Saturation Adjustment Blue : -5
Saturation Adjustment Purple : +10
Saturation Adjustment Magenta : -10
Luminance Adjustment Red : +20
Luminance Adjustment Orange : +10
Luminance Adjustment Yellow : +30
Luminance Adjustment Green : +30
Luminance Adjustment Aqua : +10
Luminance Adjustment Blue : +30
Luminance Adjustment Purple : +20
Luminance Adjustment Magenta : +10
Split Toning Shadow Hue : 72
Split Toning Shadow Saturation : 5
Split Toning Highlight Hue : 250
Split Toning Highlight Saturation : 23
Split Toning Balance : +25
Color Grade Midtone Hue : 225
Color Grade Midtone Sat : 15
Color Grade Shadow Lum : 0
Color Grade Midtone Lum : +26
Color Grade Highlight Lum : +22
Color Grade Blending : 60
Color Grade Global Hue : 0
Color Grade Global Sat : 0
Color Grade Global Lum : 0
Auto Lateral CA : 1
Lens Profile Enable : 0
Lens Manual Distortion Amount : 0
Vignette Amount : 0
Defringe Purple Amount : 0
Defringe Purple Hue Lo : 30
Defringe Purple Hue Hi : 70
Defringe Green Amount : 0
Defringe Green Hue Lo : 40
Defringe Green Hue Hi : 60
Perspective Upright : Off
Perspective Vertical : 0
Perspective Horizontal : 0
Perspective Rotate : 0.0
Perspective Aspect : 0
Perspective Scale : 100
Perspective X : 0.00
Perspective Y : 0.00
Grain Amount : 0
Post Crop Vignette Amount : -14
Post Crop Vignette Midpoint : 50
Post Crop Vignette Feather : 50
Post Crop Vignette Roundness : 0
Post Crop Vignette Style : Highlight Priority
Post Crop Vignette Highlight Contrast : 0
Shadow Tint : 0
Red Hue : 0
Red Saturation : 0
Green Hue : 0
Green Saturation : 0
Blue Hue : 0
Blue Saturation : 0
HDR Edit Mode : 0
Curve Refine Saturation : 100
Override Look Vignette : False
Tone Curve Name 2012 : Custom
Camera Profile : Adobe Standard
Allow Filters : 1
Has Settings : True
Crop Top : 0
Crop Left : 0.055556
Crop Bottom : 1
Crop Right : 0.944444
Crop Angle : 0
Crop Constrain To Warp : 0
Crop Constrain To Unit Square : 1
Has Crop : True
Already Applied : True
Tone Curve PV2012 : 0, 0, 67, 66, 188, 178, 255, 255
Tone Curve PV2012 Red : 0, 0, 67, 63, 154, 150, 209, 197, 255, 255
Tone Curve PV2012 Green : 0, 0, 255, 255
Tone Curve PV2012 Blue : 0, 0, 67, 63, 144, 154, 203, 204, 255, 255
Point Colors : -1.000000, -1.000000, -1.000000, -1.000000, -1.000000, -1.000000, -1.000000, -1.000000, -1.000000, -1.000000, -1.000000, -1.000000, -1.000000, -1.000000, -1.000000, -1.000000, -1.000000, -1.000000, -1.000000
Color Variance : -50.000000
Filter List Filters Name : Enhance
Filter List Filters Title : $$$/CRaw/Filter/Title/Denoise=Denoise
Filter List Filters Filter ID : 1
Filter List Filters Min Display Version : 285212672
Filter List Filters Min Edit Version : 285212672
Filter List Filters Order Index N : 100000
Filter List Filters Order Index D : 1
Filter List Filters Src Bounds Top : 0
Filter List Filters Src Bounds Left : 0
Filter List Filters Src Bounds Bottom : 4032
Filter List Filters Src Bounds Right : 6032
Filter List Filters Dst Bounds Top : 0
Filter List Filters Dst Bounds Left : 0
Filter List Filters Dst Bounds Bottom : 4032
Filter List Filters Dst Bounds Right : 6032
Filter List Filters Src Default Crop Area Top : 16
Filter List Filters Src Default Crop Area Left:
16
Filter List Filters Src Default Crop Area Bottom:
4016
Filter List Filters Src Default Crop Area Right:
6016
Filter List Filters Dst Default Crop Area Top : 16
Filter List Filters Dst Default Crop Area Left:
Filter List Filters Dst Default Crop Area Bottom:
Filter List Filters Dst Default Crop Area Right:
Filter List Filters Should Delete Images Due To Upstream:
true
Filter List Filters Compressed Settings : 0DA5471E2D7C6364EFB8266EED12326C
Filter List Filters Images Reference Image Area Top:
0
Filter List Filters Images Reference Image Area Left:
Filter List Filters Images Reference Image Area Bottom:
4032
Filter List Filters Images Reference Image Area Right:
6032
Filter List Filters Images Reference Default Crop Area Top:
Filter List Filters Images Reference Default Crop Area Left:
Filter List Filters Images Reference Default Crop Area Bottom:
Filter List Filters Images Reference Default Crop Area Right:
Filter List Filters Images Blend Type : 1
Filter List Filters Images Blend White Balance Mode:
2
Filter List Filters Images Matrix Type A : 1
Filter List Filters Images Matrix Type B : 1
Filter List Filters Images Matrix Type C : 4
Filter List Filters Images Opacity : 1,1
B2C97AE425DD751B0E48A3ACAE79CF4A
Filter List Filters Images Blend Params : 0.700000000186265, 0.75, 1, 1
Filter List Filters Images Matrix Params A : 0.25, 0.25
Filter List Filters Images Matrix Params B : 0.25, 0.25
Filter List Filters Images Color Variations Linearization Map Polynomial:
0.000374305993318558, 0.00767836533486843, 0, 0.115175476297736, 0.000650967471301556, 0.0155845684930682, 0, 0.233768532052636, 0.000423128716647625, 0.00911354459822178, 0, 0.136703175492585
Filter List Filters Images Color Variations Black Levels Black:
0,1
00C4E8EA3E81A5C9C3096AB87FD87411
03E3764068853928AC89AB97FAEAA254
Filter List Filters Images Color Variations Image Group Size X:
Filter List Filters Images Color Variations Image Group Size Y:
Filter List Filters Images Color Variations Image Group Stage 3X:
6000
Filter List Filters Images Color Variations Image Group Stage 3Y:
4000
Filter List Filters Images Color Variations Image Group Pixel Type:
3
Filter List Filters Images Color Variations Image Group Planes:
Look Name : Adobe Color
Look Amount : 1
Look Supports Amount : false
Look Supports Monochrome : false
Look Supports Output Referred : false
Look Copyright : © 2018 Adobe Systems, Inc.
Look Group : Profiles
Look Parameters Version : 18.3
Look Parameters Process Version : 15.4
Look Parameters Convert To Grayscale : False
Look Parameters Camera Profile : Adobe Standard
Look Parameters Look Table : E1095149FDB39D7A057BAB208837E2E1
Look Parameters Tone Curve PV2012 : 0, 0, 22, 16, 40, 35, 127, 127, 224, 230, 240, 246, 255, 255
Look Parameters Tone Curve PV2012 Red : 0, 0, 255, 255
Look Parameters Tone Curve PV2012 Green : 0, 0, 255, 255
Look Parameters Tone Curve PV2012 Blue : 0, 0, 255, 255
Look Parameters Point Colors : -1.000000, -1.000000, -1.000000, -1.000000, -1.000000, -1.000000, -1.000000, -1.000000, -1.000000, -1.000000, -1.000000, -1.000000, -1.000000, -1.000000, -1.000000, -1.000000, -1.000000, -1.000000, -1.000000
Look Parameters Color Variance : -50.000000
Image Width : 400
Image Height : 300
Bits Per Sample : 8
Color Components : 3
Aperture : 1.0
Image Size : 400x300
Megapixels : 0.120
Scale Factor To 35 mm Equivalent : 1.5
Shutter Speed : 1/125
Modify Date : 2026:05:13 10:30:15+08:00
Circle Of Confusion : 0.020 mm
Field Of View : 37.5 deg
Focal Length : 35.0 mm (35 mm equivalent: 53.0 mm)
Hyperfocal Distance : 61.74 m
Light Value : 4.0
Lens ID : 35.0mm