Uber Exif Photo
Photometric Interpretation : RGB
Make : LEICA CAMERA AG
Camera Model Name : LEICA SL (Typ 601)
Orientation : Horizontal (normal)
Samples Per Pixel : 3
Software : Adobe Photoshop 27.6 (Windows)
Modify Date : 2026:05:08 17:10:58
Artist : Artist
Copyright : Infor
Exposure Time : 1/400
Exposure Program : Aperture-priority AE
ISO : 200
Sensitivity Type : Standard Output Sensitivity
Date/Time Original : 2026:05:07 16:14:23
Create Date : 2026:05:07 16:14:23
Shutter Speed Value : 1/400
Exposure Compensation : +0.3
Max Aperture Value : 1.0
Metering Mode : Multi-segment
Light Source : Unknown
Flash : Off, Did not fire
Color Space : sRGB
Exif Image Width : 3856
Exif Image Height : 5784
Sensing Method : One-chip color area
Custom Rendered : Normal
White Balance : Auto
Scene Capture Type : Standard
Contrast : High
Saturation : High
Sharpness : Soft
Serial Number : 4967109
Lens Make : N/A
Lens Model : N/A
Lens Serial Number : N/A
GPS Version ID : 2.3.0.0
GPS Latitude Ref : North
GPS Longitude Ref : West
GPS Altitude Ref : Above Sea Level
GPS Time Stamp : 20:14:22
GPS Status : Measurement Active
GPS Measure Mode : 3-Dimensional Measurement
GPS Map Datum : WGS-84
GPS Date Stamp : 2026:05:07
By-line : Artist
Copyright Notice : Infor
Creator Tool : Adobe Photoshop Lightroom Classic 15.3 (Windows)
Format : image/jpeg
Lens : N/A
Lateral Chromatic Aberration Correction Already Applied:
True
Date Created : 2026:05:07 16:14:23
Color Mode : RGB
ICC Profile Name : sRGB IEC61966-2.1
Preserved File Name : L1070389.DNG
Pick : 0
Raw File Name : L1070389.DNG
Version : 18.3
Compatible Version : 251854848
Process Version : 15.4
Color Temperature : 5100
Tint : +20
Exposure 2012 : 0.00
Contrast 2012 : 0
Highlights 2012 : -53
Shadows 2012 : +61
Whites 2012 : 0
Blacks 2012 : -49
Texture : 0
Clarity 2012 : +31
Dehaze : 0
Vibrance : +18
Parametric Shadows : 0
Parametric Darks : 0
Parametric Lights : 0
Parametric Highlights : 0
Parametric Shadow Split : 25
Parametric Midtone Split : 50
Parametric Highlight Split : 75
Sharpen Radius : +3.0
Sharpen Detail : 100
Sharpen Edge Masking : 50
Luminance Smoothing : 24
Luminance Noise Reduction Detail : 50
Luminance Noise Reduction Contrast : 0
Color Noise Reduction : 25
Color Noise Reduction Detail : 50
Color Noise Reduction Smoothness : 50
Hue Adjustment Red : +14
Hue Adjustment Orange : -11
Hue Adjustment Yellow : -8
Hue Adjustment Green : 0
Hue Adjustment Aqua : +13
Hue Adjustment Blue : -3
Hue Adjustment Purple : +11
Hue Adjustment Magenta : +55
Saturation Adjustment Red : +22
Saturation Adjustment Orange : -4
Saturation Adjustment Yellow : -2
Saturation Adjustment Green : -8
Saturation Adjustment Aqua : +53
Saturation Adjustment Blue : -17
Saturation Adjustment Purple : -5
Saturation Adjustment Magenta : -3
Luminance Adjustment Red : 0
Luminance Adjustment Orange : +15
Luminance Adjustment Yellow : +26
Luminance Adjustment Green : +27
Luminance Adjustment Aqua : +4
Luminance Adjustment Blue : -24
Luminance Adjustment Purple : -25
Luminance Adjustment Magenta : 0
Split Toning Shadow Hue : 0
Split Toning Shadow Saturation : 0
Split Toning Highlight Hue : 0
Split Toning Highlight Saturation : 0
Split Toning Balance : 0
Color Grade Midtone Hue : 0
Color Grade Midtone Sat : 0
Color Grade Shadow Lum : 0
Color Grade Midtone Lum : 0
Color Grade Highlight Lum : 0
Color Grade Blending : 50
Color Grade Global Hue : 0
Color Grade Global Sat : 0
Color Grade Global Lum : 0
Auto Lateral CA : 1
Lens Profile Enable : 0
Lens Manual Distortion Amount : 0
Vignette Amount : 0
Defringe Purple Amount : 0
Defringe Purple Hue Lo : 30
Defringe Purple Hue Hi : 70
Defringe Green Amount : 0
Defringe Green Hue Lo : 40
Defringe Green Hue Hi : 60
Perspective Upright : Auto
Perspective Vertical : 0
Perspective Horizontal : 0
Perspective Rotate : +1.5
Perspective Aspect : 0
Perspective Scale : 100
Perspective X : 0.00
Perspective Y : 0.00
Grain Amount : 0
Post Crop Vignette Amount : 0
Shadow Tint : 0
Red Hue : 0
Red Saturation : 0
Green Hue : 0
Green Saturation : 0
Blue Hue : 0
Blue Saturation : 0
HDR Edit Mode : 0
Curve Refine Saturation : 100
Convert To Grayscale : False
Override Look Vignette : False
Tone Curve Name 2012 : Custom
Camera Profile : Adobe Standard
Has Settings : True
Crop Top : 0.018037
Crop Left : 0.018037
Crop Bottom : 0.981963
Crop Right : 0.981963
Crop Angle : 0
Crop Constrain To Warp : 1
Crop Constrain To Unit Square : 1
Has Crop : True
Already Applied : True
Creator : Artist
Rights : Infor
Tone Curve PV2012 : 0, 0, 42, 30, 78, 65, 126, 119, 166, 163, 202, 208, 235, 244, 255, 255
Tone Curve PV2012 Red : 0, 0, 255, 255
Tone Curve PV2012 Green : 0, 0, 255, 255
Tone Curve PV2012 Blue : 0, 0, 255, 255
Point Colors : -1.000000, -1.000000, -1.000000, -1.000000, -1.000000, -1.000000, -1.000000, -1.000000, -1.000000, -1.000000, -1.000000, -1.000000, -1.000000, -1.000000, -1.000000, -1.000000, -1.000000, -1.000000, -1.000000
Color Variance : -50.000000
100
2
1
50005
true
0
false
E5F6F54DBCE5CB488E69E34224C6E948
Profile Description : sRGB IEC61966-2.1
Image Width : 267
Image Height : 400
Bits Per Sample : 8
Color Components : 3
Image Size : 267x400
Megapixels : 0.107
Shutter Speed : 1/400
Modify Date : 2026:05:08 17:10:58-04:00
GPS Altitude : 0 m Above Sea Level
GPS Date/Time : 2026:05:07 20:14:22Z
GPS Latitude : 41 deg 8' 22.99" N
GPS Longitude : 74 deg 15' 16.96" W
GPS Position : 41 deg 8' 22.99" N, 74 deg 15' 16.96" W