Uber Exif Photo
Make : SONY
Camera Model Name : DSC-RX100M5A
Software : Adobe Photoshop Lightroom Classic 15.2.1 (Windows)
Modify Date : 2026:04:08 01:27:07
Artist : Tony Johansson
Copyright : Tony Johansson
Exposure Time : 1/30
F Number : 2.2
Exposure Program : Landscape
ISO : 125
Sensitivity Type : Recommended Exposure Index
Recommended Exposure Index : 125
Date/Time Original : 2024:11:10 16:17:24
Create Date : 2024:11:10 16:17:24
Shutter Speed Value : 1/30
Aperture Value : 2.2
Brightness Value : 3.77890625
Exposure Compensation : 0
Max Aperture Value : 1.8
Metering Mode : Multi-segment
Light Source : Unknown
Flash : Off, Did not fire
Focal Length : 8.8 mm
Color Space : sRGB
Scene Type : Directly photographed
Custom Rendered : Normal
Exposure Mode : Auto
White Balance : Auto
Digital Zoom Ratio : 1
Focal Length In 35mm Format : 24 mm
Scene Capture Type : Landscape
Contrast : Normal
Saturation : Normal
Sharpness : Normal
Lens Info : 8.8-25.7mm f/1.8-2.8
Lens Model : 24-70mm F1.8-2.8
By-line : Tony Johansson
Copyright Notice : Tony Johansson
Profile Description : sRGB IEC61966-2.1
Creator Tool : Adobe Photoshop Lightroom Classic 15.2.1 (Windows)
Format : image/jpeg
Lens : 24-70mm F1.8-2.8
Lens Distort Info : 35336/32768 -322647567/1073741824 175139330/1073741824 -49573325/1073741824
Neutral Density Factor : 10000/10000
Distortion Correction Already Applied : True
Lateral Chromatic Aberration Correction Already Applied:
True
Date Created : 2024:11:10 16:17:24+10:00
Preserved File Name : _DSC3245.ARW
Pick : 0
Raw File Name : _DSC3245.ARW
Version : 18.2.2
Compatible Version : 285212672
Process Version : 15.4
Color Temperature : 5450
Tint : +75
Exposure 2012 : 0.00
Contrast 2012 : +28
Highlights 2012 : -100
Shadows 2012 : +67
Whites 2012 : 0
Blacks 2012 : +77
Texture : +23
Clarity 2012 : +16
Dehaze : +22
Vibrance : +57
Parametric Shadows : 0
Parametric Darks : 0
Parametric Lights : 0
Parametric Highlights : 0
Parametric Shadow Split : 25
Parametric Midtone Split : 50
Parametric Highlight Split : 75
Sharpen Radius : +0.7
Sharpen Detail : 57
Sharpen Edge Masking : 48
Luminance Smoothing : 0
Color Noise Reduction : 0
Hue Adjustment Red : 0
Hue Adjustment Orange : +16
Hue Adjustment Yellow : +9
Hue Adjustment Green : -7
Hue Adjustment Aqua : 0
Hue Adjustment Blue : 0
Hue Adjustment Purple : 0
Hue Adjustment Magenta : 0
Saturation Adjustment Red : +45
Saturation Adjustment Orange : +12
Saturation Adjustment Yellow : -16
Saturation Adjustment Green : -18
Saturation Adjustment Aqua : 0
Saturation Adjustment Blue : -19
Saturation Adjustment Purple : -8
Saturation Adjustment Magenta : +4
Luminance Adjustment Red : -10
Luminance Adjustment Orange : -25
Luminance Adjustment Yellow : -41
Luminance Adjustment Green : +30
Luminance Adjustment Aqua : 0
Luminance Adjustment Blue : 0
Luminance Adjustment Purple : 0
Luminance Adjustment Magenta : 0
Split Toning Shadow Hue : 0
Split Toning Shadow Saturation : 0
Split Toning Highlight Hue : 0
Split Toning Highlight Saturation : 0
Split Toning Balance : 0
Color Grade Midtone Hue : 0
Color Grade Midtone Sat : 0
Color Grade Shadow Lum : 0
Color Grade Midtone Lum : 0
Color Grade Highlight Lum : 0
Color Grade Blending : 50
Color Grade Global Hue : 0
Color Grade Global Sat : 0
Color Grade Global Lum : 0
Auto Lateral CA : 1
Lens Profile Enable : 1
Lens Manual Distortion Amount : 0
Vignette Amount : 0
Defringe Purple Amount : 0
Defringe Purple Hue Lo : 30
Defringe Purple Hue Hi : 70
Defringe Green Amount : 0
Defringe Green Hue Lo : 40
Defringe Green Hue Hi : 60
Perspective Upright : Off
Perspective Vertical : 0
Perspective Horizontal : 0
Perspective Rotate : 0.0
Perspective Aspect : 0
Perspective Scale : 100
Perspective X : 0.00
Perspective Y : 0.00
Grain Amount : 0
Post Crop Vignette Amount : 0
Shadow Tint : 0
Red Hue : 0
Red Saturation : 0
Green Hue : 0
Green Saturation : 0
Blue Hue : 0
Blue Saturation : 0
HDR Edit Mode : 0
HDR Max Value : +4.00
Override Look Vignette : False
Tone Curve Name 2012 : Linear
Camera Profile : Adobe Standard
Lens Profile Setup : LensDefaults
Allow Filters : 1
Has Settings : True
Crop Top : 0.303493
Crop Left : 0
Crop Bottom : 1
Crop Right : 1
Crop Angle : 0
Crop Constrain To Warp : 0
Crop Constrain To Unit Square : 1
Has Crop : True
Already Applied : True
Creator : Tony Johansson
Rights : Tony Johansson
Tone Curve PV2012 : 0, 0, 255, 255
Tone Curve PV2012 Red : 0, 0, 255, 255
Tone Curve PV2012 Green : 0, 0, 255, 255
Tone Curve PV2012 Blue : 0, 0, 255, 255
Point Colors : -1.000000, -1.000000, -1.000000, -1.000000, -1.000000, -1.000000, -1.000000, -1.000000, -1.000000, -1.000000, -1.000000, -1.000000, -1.000000, -1.000000, -1.000000, -1.000000, -1.000000, -1.000000, -1.000000
Color Variance : -50.000000
100
Filter List Filters Name : Enhance
Filter List Filters Title : $$$/CRaw/Filter/Title/Denoise=Denoise
Filter List Filters Filter ID : 1
Filter List Filters Min Display Version : 285212672
Filter List Filters Min Edit Version : 285212672
Filter List Filters Order Index N : 100000
Filter List Filters Order Index D : 1
Filter List Filters Src Bounds Top : 0
Filter List Filters Src Bounds Left : 0
Filter List Filters Src Bounds Bottom : 3672
Filter List Filters Src Bounds Right : 5504
Filter List Filters Dst Bounds Top : 0
Filter List Filters Dst Bounds Left : 0
Filter List Filters Dst Bounds Bottom : 3672
Filter List Filters Dst Bounds Right : 5504
Filter List Filters Src Default Crop Area Top : 12
Filter List Filters Src Default Crop Area Left:
12
Filter List Filters Src Default Crop Area Bottom:
3660
Filter List Filters Src Default Crop Area Right:
5484
Filter List Filters Dst Default Crop Area Top : 12
Filter List Filters Dst Default Crop Area Left:
Filter List Filters Dst Default Crop Area Bottom:
Filter List Filters Dst Default Crop Area Right:
Filter List Filters Should Delete Images Due To Upstream:
true
Filter List Filters Compressed Settings : C6A12FF54B9B741A8475A0193EF7C77E
Filter List Filters Images Reference Image Area Top:
0
Filter List Filters Images Reference Image Area Left:
Filter List Filters Images Reference Image Area Bottom:
3672
Filter List Filters Images Reference Image Area Right:
5504
Filter List Filters Images Reference Default Crop Area Top:
Filter List Filters Images Reference Default Crop Area Left:
Filter List Filters Images Reference Default Crop Area Bottom:
Filter List Filters Images Reference Default Crop Area Right:
Filter List Filters Images Blend Type : 1
Filter List Filters Images Blend White Balance Mode:
2
Filter List Filters Images Matrix Type A : 1
Filter List Filters Images Matrix Type B : 1
Filter List Filters Images Matrix Type C : 4
Filter List Filters Images Opacity : 1,1
B2C97AE425DD751B0E48A3ACAE79CF4A
Filter List Filters Images Blend Params : 0.700000000186265, 0.75, 1, 1
Filter List Filters Images Matrix Params A : 0.25, 0.25
Filter List Filters Images Matrix Params B : 0.25, 0.25
Filter List Filters Images Color Variations Linearization Map Polynomial:
0.00247115641832352, 0.0623455522581935, 0, 0.93518329039216, 0.00645068101584911, 0.0620968323200941, 0, 0.931452486664057, 0.0035623162984848, 0.0622773552313447, 0, 0.93416032847017
Filter List Filters Images Color Variations Black Levels Black:
0,1
60EF13B86BA58883008B8B1A1DE07F45
2C479417D97852946F8F932E38C02B21
Filter List Filters Images Color Variations Image Group Size X:
Filter List Filters Images Color Variations Image Group Size Y:
Filter List Filters Images Color Variations Image Group Stage 3X:
5472
Filter List Filters Images Color Variations Image Group Stage 3Y:
3648
Filter List Filters Images Color Variations Image Group Pixel Type:
3
Filter List Filters Images Color Variations Image Group Planes:
Look Name : Adobe Color
Look Amount : 1
Look Supports Amount : false
Look Supports Monochrome : false
Look Supports Output Referred : false
Look Copyright : © 2018 Adobe Systems, Inc.
Look Group : Profiles
Look Parameters Version : 18.2.2
Look Parameters Process Version : 15.4
Look Parameters Convert To Grayscale : False
Look Parameters Camera Profile : Adobe Standard
Look Parameters Look Table : E1095149FDB39D7A057BAB208837E2E1
Look Parameters Tone Curve PV2012 : 0, 0, 22, 16, 40, 35, 127, 127, 224, 230, 240, 246, 255, 255
Look Parameters Tone Curve PV2012 Red : 0, 0, 255, 255
Look Parameters Tone Curve PV2012 Green : 0, 0, 255, 255
Look Parameters Tone Curve PV2012 Blue : 0, 0, 255, 255
Look Parameters Point Colors : -1.000000, -1.000000, -1.000000, -1.000000, -1.000000, -1.000000, -1.000000, -1.000000, -1.000000, -1.000000, -1.000000, -1.000000, -1.000000, -1.000000, -1.000000, -1.000000, -1.000000, -1.000000, -1.000000
Look Parameters Color Variance : -50.000000
Image Width : 400
Image Height : 186
Bits Per Sample : 8
Color Components : 3
Aperture : 2.2
Image Size : 400x186
Megapixels : 0.074
Scale Factor To 35 mm Equivalent : 2.7
Shutter Speed : 1/30
Create Date : 2024:11:10 16:17:24+10:00
Date/Time Original : 2024:11:10 16:17:24+10:00
Modify Date : 2026:04:08 01:27:07+02:00
Circle Of Confusion : 0.011 mm
Field Of View : 73.7 deg
Focal Length : 8.8 mm (35 mm equivalent: 24.0 mm)
Hyperfocal Distance : 3.20 m
Light Value : 6.9
Lens ID : 24-70mm F1.8-2.8