Uber Exif Photo
Make : SONY
Camera Model Name : DSC-RX100M5A
Software : Adobe Photoshop Lightroom Classic 15.2 (Windows)
Modify Date : 2026:03:24 15:25:14
Artist : Tony Johansson
Copyright : Tony Johansson
Exposure Time : 1/80
F Number : 5.6
Exposure Program : Aperture-priority AE
ISO : 80
Sensitivity Type : Recommended Exposure Index
Recommended Exposure Index : 80
Date/Time Original : 2024:10:20 10:23:18
Create Date : 2024:10:20 10:23:18
Shutter Speed Value : 1/80
Aperture Value : 5.6
Brightness Value : 6.728125
Exposure Compensation : -0.7
Max Aperture Value : 2.8
Metering Mode : Average
Light Source : Unknown
Flash : Off, Did not fire
Focal Length : 17.3 mm
Color Space : Uncalibrated
Scene Type : Directly photographed
Custom Rendered : Normal
Exposure Mode : Auto
White Balance : Auto
Digital Zoom Ratio : 1
Focal Length In 35mm Format : 47 mm
Scene Capture Type : Standard
Contrast : Normal
Saturation : Normal
Sharpness : Normal
Lens Info : 8.8-25.7mm f/1.8-2.8
Lens Model : 24-70mm F1.8-2.8
By-line : Tony Johansson
Copyright Notice : Tony Johansson
Profile Description : ProPhoto RGB
Creator Tool : Adobe Photoshop Lightroom Classic 15.2 (Windows)
Format : image/jpeg
Lens : 24-70mm F1.8-2.8
Lens Distort Info : 33366/32768 -72986814/1073741824 27646344/1073741824 6989196/1073741824
Neutral Density Factor : 10000/10000
Distortion Correction Already Applied : True
Lateral Chromatic Aberration Correction Already Applied:
True
Date Created : 2024:10:20 10:23:18+10:00
Preserved File Name : _DSC2288.ARW
Pick : 0
Raw File Name : _DSC2288.ARW
Version : 18.2
Compatible Version : 285212672
Process Version : 15.4
Color Temperature : 4900
Tint : +44
Exposure 2012 : +0.49
Contrast 2012 : +27
Highlights 2012 : -100
Shadows 2012 : +100
Whites 2012 : -12
Blacks 2012 : +100
Texture : +25
Clarity 2012 : +15
Dehaze : +12
Vibrance : +17
Parametric Shadows : 0
Parametric Darks : 0
Parametric Lights : 0
Parametric Highlights : 0
Parametric Shadow Split : 25
Parametric Midtone Split : 50
Parametric Highlight Split : 75
Sharpen Radius : +1.0
Sharpen Detail : 25
Sharpen Edge Masking : 0
Luminance Smoothing : 0
Color Noise Reduction : 25
Color Noise Reduction Detail : 50
Color Noise Reduction Smoothness : 50
Hue Adjustment Red : 0
Hue Adjustment Orange : -1
Hue Adjustment Yellow : +8
Hue Adjustment Green : +8
Hue Adjustment Aqua : 0
Hue Adjustment Blue : 0
Hue Adjustment Purple : 0
Hue Adjustment Magenta : 0
Saturation Adjustment Red : 0
Saturation Adjustment Orange : +62
Saturation Adjustment Yellow : -8
Saturation Adjustment Green : -8
Saturation Adjustment Aqua : 0
Saturation Adjustment Blue : 0
Saturation Adjustment Purple : 0
Saturation Adjustment Magenta : 0
Luminance Adjustment Red : 0
Luminance Adjustment Orange : 0
Luminance Adjustment Yellow : 0
Luminance Adjustment Green : 0
Luminance Adjustment Aqua : 0
Luminance Adjustment Blue : 0
Luminance Adjustment Purple : 0
Luminance Adjustment Magenta : 0
Split Toning Shadow Hue : 0
Split Toning Shadow Saturation : 0
Split Toning Highlight Hue : 0
Split Toning Highlight Saturation : 0
Split Toning Balance : 0
Color Grade Midtone Hue : 0
Color Grade Midtone Sat : 0
Color Grade Shadow Lum : 0
Color Grade Midtone Lum : 0
Color Grade Highlight Lum : 0
Color Grade Blending : 50
Color Grade Global Hue : 0
Color Grade Global Sat : 0
Color Grade Global Lum : 0
Auto Lateral CA : 1
Lens Profile Enable : 1
Lens Manual Distortion Amount : 0
Vignette Amount : 0
Defringe Purple Amount : 0
Defringe Purple Hue Lo : 30
Defringe Purple Hue Hi : 70
Defringe Green Amount : 0
Defringe Green Hue Lo : 40
Defringe Green Hue Hi : 60
Perspective Upright : Full
Perspective Vertical : 0
Perspective Horizontal : 0
Perspective Rotate : 0.0
Perspective Aspect : 0
Perspective Scale : 100
Perspective X : 0.00
Perspective Y : 0.00
Grain Amount : 0
Post Crop Vignette Amount : 0
Shadow Tint : 0
Red Hue : 0
Red Saturation : 0
Green Hue : 0
Green Saturation : 0
Blue Hue : 0
Blue Saturation : 0
HDR Edit Mode : 0
HDR Max Value : +4.00
Override Look Vignette : False
Tone Curve Name 2012 : Linear
Camera Profile : Adobe Standard
Lens Profile Setup : LensDefaults
Allow Filters : 1
Has Settings : True
Crop Top : 0.241448
Crop Left : 0.042941
Crop Bottom : 0.999454
Crop Right : 0.800947
Crop Angle : 0
Crop Constrain To Warp : 0
Crop Constrain To Unit Square : 1
Has Crop : True
Already Applied : True
Creator : Tony Johansson
Rights : Tony Johansson
Tone Curve PV2012 : 0, 0, 255, 255
Tone Curve PV2012 Red : 0, 0, 255, 255
Tone Curve PV2012 Green : 0, 0, 255, 255
Tone Curve PV2012 Blue : 0, 0, 255, 255
Point Colors : -1.000000, -1.000000, -1.000000, -1.000000, -1.000000, -1.000000, -1.000000, -1.000000, -1.000000, -1.000000, -1.000000, -1.000000, -1.000000, -1.000000, -1.000000, -1.000000, -1.000000, -1.000000, -1.000000
Color Variance : -50.000000
Filter List Filters Name : Enhance
Filter List Filters Title : $$$/CRaw/Filter/Title/RawDetails=Raw Details
Filter List Filters Filter ID : 1
Filter List Filters Min Display Version : 285212672
Filter List Filters Min Edit Version : 285212672
Filter List Filters Order Index N : 100000
Filter List Filters Order Index D : 1
Filter List Filters Src Bounds Top : 0
Filter List Filters Src Bounds Left : 0
Filter List Filters Src Bounds Bottom : 3672
Filter List Filters Src Bounds Right : 5504
Filter List Filters Dst Bounds Top : 0
Filter List Filters Dst Bounds Left : 0
Filter List Filters Dst Bounds Bottom : 3672
Filter List Filters Dst Bounds Right : 5504
Filter List Filters Src Default Crop Area Top : 12
Filter List Filters Src Default Crop Area Left:
12
Filter List Filters Src Default Crop Area Bottom:
3660
Filter List Filters Src Default Crop Area Right:
5484
Filter List Filters Dst Default Crop Area Top : 12
Filter List Filters Dst Default Crop Area Left:
Filter List Filters Dst Default Crop Area Bottom:
Filter List Filters Dst Default Crop Area Right:
Filter List Filters Should Delete Images Due To Upstream:
true
Filter List Filters Compressed Settings : 33C1048570CF98F52073C7BA05DD0582
Filter List Filters Images Reference Image Area Top:
0
Filter List Filters Images Reference Image Area Left:
Filter List Filters Images Reference Image Area Bottom:
3672
Filter List Filters Images Reference Image Area Right:
5504
Filter List Filters Images Reference Default Crop Area Top:
Filter List Filters Images Reference Default Crop Area Left:
Filter List Filters Images Reference Default Crop Area Bottom:
Filter List Filters Images Reference Default Crop Area Right:
Filter List Filters Images Blend Type : 0
Filter List Filters Images Blend White Balance Mode:
Filter List Filters Images Matrix Type A : 0
Filter List Filters Images Matrix Type B : 0
Filter List Filters Images Matrix Type C : 0
Filter List Filters Images Opacity : 1,1
B2C97AE425DD751B0E48A3ACAE79CF4A
Filter List Filters Images Color Variations Linearization Map Polynomial:
0.00333766546100378, 0.0622913958504796, 0, 0.934370938688517, 0.00707649346441031, 0.062057719565928, 0, 0.930865786969662, 0.00328952632844448, 0.0622944049537182, 0, 0.934416068717837
Filter List Filters Images Color Variations Black Levels Black:
0,1
D559FB8758096FBC9E388DF99362B4DE
A07AAE65C6DE89BA1DB456CCC87D2BF9
Filter List Filters Images Color Variations Image Group Size X:
Filter List Filters Images Color Variations Image Group Size Y:
Filter List Filters Images Color Variations Image Group Stage 3X:
5472
Filter List Filters Images Color Variations Image Group Stage 3Y:
3648
Filter List Filters Images Color Variations Image Group Pixel Type:
3
Filter List Filters Images Color Variations Image Group Planes:
Look Name : Adobe Color
Look Amount : 1
Look Supports Amount : false
Look Supports Monochrome : false
Look Supports Output Referred : false
Look Copyright : © 2018 Adobe Systems, Inc.
Look Group : Profiles
Look Parameters Version : 18.2
Look Parameters Process Version : 15.4
Look Parameters Convert To Grayscale : False
Look Parameters Camera Profile : Adobe Standard
Look Parameters Look Table : E1095149FDB39D7A057BAB208837E2E1
Look Parameters Tone Curve PV2012 : 0, 0, 22, 16, 40, 35, 127, 127, 224, 230, 240, 246, 255, 255
Look Parameters Tone Curve PV2012 Red : 0, 0, 255, 255
Look Parameters Tone Curve PV2012 Green : 0, 0, 255, 255
Look Parameters Tone Curve PV2012 Blue : 0, 0, 255, 255
Look Parameters Point Colors : -1.000000, -1.000000, -1.000000, -1.000000, -1.000000, -1.000000, -1.000000, -1.000000, -1.000000, -1.000000, -1.000000, -1.000000, -1.000000, -1.000000, -1.000000, -1.000000, -1.000000, -1.000000, -1.000000
Look Parameters Color Variance : -50.000000
Image Width : 400
Image Height : 267
Bits Per Sample : 8
Color Components : 3
Aperture : 5.6
Image Size : 400x267
Megapixels : 0.107
Scale Factor To 35 mm Equivalent : 2.7
Shutter Speed : 1/80
Create Date : 2024:10:20 10:23:18+10:00
Date/Time Original : 2024:10:20 10:23:18+10:00
Modify Date : 2026:03:24 15:25:14+01:00
Circle Of Confusion : 0.011 mm
Field Of View : 41.9 deg
Focal Length : 17.3 mm (35 mm equivalent: 47.0 mm)
Hyperfocal Distance : 4.82 m
Light Value : 11.6
Lens ID : 24-70mm F1.8-2.8