Uber Exif Photo
Make : SONY
Camera Model Name : DSC-RX100M5A
Software : Adobe Photoshop Lightroom Classic 15.2 (Windows)
Modify Date : 2026:03:24 00:39:21
Artist : Tony Johansson
Copyright : Tony Johansson
Exposure Time : 1/100
F Number : 5.6
Exposure Program : Aperture-priority AE
ISO : 125
Sensitivity Type : Recommended Exposure Index
Recommended Exposure Index : 125
Date/Time Original : 2024:10:08 10:01:57
Create Date : 2024:10:08 10:01:57
Shutter Speed Value : 1/100
Aperture Value : 5.6
Brightness Value : 6.5640625
Exposure Compensation : -0.7
Max Aperture Value : 2.0
Metering Mode : Average
Light Source : Unknown
Flash : Off, Did not fire
Focal Length : 9.1 mm
Color Space : Uncalibrated
Scene Type : Directly photographed
Custom Rendered : Normal
Exposure Mode : Auto
White Balance : Auto
Digital Zoom Ratio : 1
Focal Length In 35mm Format : 25 mm
Scene Capture Type : Standard
Contrast : Normal
Saturation : Normal
Sharpness : Normal
Lens Info : 8.8-25.7mm f/1.8-2.8
Lens Model : 24-70mm F1.8-2.8
By-line : Tony Johansson
Copyright Notice : Tony Johansson
Profile Description : ProPhoto RGB
Creator Tool : Adobe Photoshop Lightroom Classic 15.2 (Windows)
Format : image/jpeg
Lens : 24-70mm F1.8-2.8
Lens Distort Info : 35200/32768 -303887811/1073741824 159224044/1073741824 -42614243/1073741824
Neutral Density Factor : 10000/10000
Distortion Correction Already Applied : True
Lateral Chromatic Aberration Correction Already Applied:
True
Date Created : 2024:10:08 10:01:57+10:00
Preserved File Name : _DSC2037.ARW
Pick : 0
Raw File Name : _DSC2037.ARW
Version : 18.2
Compatible Version : 285212672
Process Version : 15.4
Color Temperature : 5950
Tint : +48
Exposure 2012 : +1.10
Contrast 2012 : +17
Highlights 2012 : -100
Shadows 2012 : +69
Whites 2012 : -4
Blacks 2012 : +33
Texture : +52
Clarity 2012 : +24
Dehaze : +16
Vibrance : +28
Parametric Shadows : 0
Parametric Darks : 0
Parametric Lights : 0
Parametric Highlights : 0
Parametric Shadow Split : 25
Parametric Midtone Split : 50
Parametric Highlight Split : 75
Sharpen Radius : +0.7
Sharpen Detail : 15
Sharpen Edge Masking : 32
Luminance Smoothing : 0
Color Noise Reduction : 0
Hue Adjustment Red : 0
Hue Adjustment Orange : -13
Hue Adjustment Yellow : -10
Hue Adjustment Green : 0
Hue Adjustment Aqua : 0
Hue Adjustment Blue : 0
Hue Adjustment Purple : 0
Hue Adjustment Magenta : 0
Saturation Adjustment Red : +5
Saturation Adjustment Orange : +51
Saturation Adjustment Yellow : +53
Saturation Adjustment Green : 0
Saturation Adjustment Aqua : 0
Saturation Adjustment Blue : 0
Saturation Adjustment Purple : 0
Saturation Adjustment Magenta : 0
Luminance Adjustment Red : 0
Luminance Adjustment Orange : +13
Luminance Adjustment Yellow : +34
Luminance Adjustment Green : +6
Luminance Adjustment Aqua : 0
Luminance Adjustment Blue : 0
Luminance Adjustment Purple : 0
Luminance Adjustment Magenta : 0
Split Toning Shadow Hue : 0
Split Toning Shadow Saturation : 0
Split Toning Highlight Hue : 0
Split Toning Highlight Saturation : 0
Split Toning Balance : 0
Color Grade Midtone Hue : 0
Color Grade Midtone Sat : 0
Color Grade Shadow Lum : 0
Color Grade Midtone Lum : 0
Color Grade Highlight Lum : 0
Color Grade Blending : 50
Color Grade Global Hue : 0
Color Grade Global Sat : 0
Color Grade Global Lum : 0
Auto Lateral CA : 1
Lens Profile Enable : 1
Lens Manual Distortion Amount : 0
Vignette Amount : 0
Defringe Purple Amount : 0
Defringe Purple Hue Lo : 30
Defringe Purple Hue Hi : 70
Defringe Green Amount : 0
Defringe Green Hue Lo : 40
Defringe Green Hue Hi : 60
Perspective Upright : Off
Perspective Vertical : 0
Perspective Horizontal : 0
Perspective Rotate : 0.0
Perspective Aspect : 0
Perspective Scale : 100
Perspective X : 0.00
Perspective Y : 0.00
Grain Amount : 0
Post Crop Vignette Amount : 0
Shadow Tint : 0
Red Hue : 0
Red Saturation : 0
Green Hue : 0
Green Saturation : 0
Blue Hue : 0
Blue Saturation : 0
HDR Edit Mode : 0
HDR Max Value : +4.00
Override Look Vignette : False
Tone Curve Name 2012 : Linear
Camera Profile : Adobe Standard
Lens Profile Setup : LensDefaults
Allow Filters : 1
Has Settings : True
Crop Top : 0
Crop Left : 0
Crop Bottom : 1
Crop Right : 1
Crop Angle : 0
Crop Constrain To Warp : 0
Crop Constrain To Unit Square : 1
Has Crop : False
Already Applied : True
Creator : Tony Johansson
Rights : Tony Johansson
Tone Curve PV2012 : 0, 0, 255, 255
Tone Curve PV2012 Red : 0, 0, 255, 255
Tone Curve PV2012 Green : 0, 0, 255, 255
Tone Curve PV2012 Blue : 0, 0, 255, 255
Point Colors : -1.000000, -1.000000, -1.000000, -1.000000, -1.000000, -1.000000, -1.000000, -1.000000, -1.000000, -1.000000, -1.000000, -1.000000, -1.000000, -1.000000, -1.000000, -1.000000, -1.000000, -1.000000, -1.000000
Color Variance : -50.000000
Remove Areas Spot Type : heal_patchmatch
Remove Areas Source State : sourceAutoComputed
Remove Areas Opacity : 1
Remove Areas Seed : 2
Remove Areas Pm patch : EB299101AF1C6FCA99521263820F48EC
Remove Areas Pm remap info 0 : 0.052674145,0.074677654,0.000000000,1.000000000
Remove Areas Pm remap info 1 : 0.057358664,0.089448385,0.000000000,1.000000000
Remove Areas Pm remap info 2 : 0.053421836,0.063538566,0.000000000,1.000000000
Remove Areas Pm gamma type : 1
Remove Areas Pm whole image top : 12
Remove Areas Pm whole image left : 12
Remove Areas Pm whole image bottom : 3660
Remove Areas Pm whole image right : 5484
Remove Areas Pm target top : 2347
Remove Areas Pm target left : 5383
Remove Areas Pm target bottom : 2432
Remove Areas Pm target right : 5455
Remove Areas Pm search top : 1813
Remove Areas Pm search left : 4608
Remove Areas Pm search bottom : 2964
Remove Areas Pm search right : 5503
Remove Areas Pm source type : full
Remove Areas Pm version : 327680
Remove Areas Fill method : firefly
Remove Areas Pm black level : 3216
Remove Areas Pm patch mask : E2133C84B4EE1B465AF1BA2EFAC25E3F
Remove Areas Pm mask remap info : 0.000000000,1.000000000,0.000000000,1.000000000
Remove Areas Pm clio model version : clio-erase-2.0#epoch=0-step=4000.clio-erase-c2-2025-03-19T10-37-32
Remove Areas Ingest Info : E80B7A550AA8B5C8D77F6875AD4DD4B7
Remove Areas Pm remap info variation 0 0 : 0.052872512,0.074113071,0.000000000,1.000000000
Remove Areas Pm remap info variation 0 1 : 0.057984285,0.088105589,0.000000000,1.000000000
Remove Areas Pm remap info variation 0 2 : 0.053391319,0.064988174,0.000000000,1.000000000
Remove Areas Pm remap info variation 1 0 : 0.052582588,0.074738689,0.000000000,1.000000000
Remove Areas Pm remap info variation 1 1 : 0.056107424,0.088776991,0.000000000,1.000000000
Remove Areas Pm remap info variation 1 2 : 0.053131916,0.065201804,0.000000000,1.000000000
Remove Areas Pm patch variations Pm patch variation:
DEE239991237AE51DC413E110D73A35D
Remove Areas Masks What : Mask/Image
Remove Areas Masks Mask Active : true
Remove Areas Masks Mask Blend Mode : 0
Remove Areas Masks Mask Inverted : false
Remove Areas Masks Mask Sync ID : D7ACE91AAE44BA49B4CE7612431031D1
Remove Areas Masks Mask Value : 1
Remove Areas Masks Mask Version : 1
Remove Areas Masks Mask Sub Type : 0
Remove Areas Masks Reference Point : 0.988281 0.651026
Remove Areas Masks Whole Image Area : 205710/32768,205753/32768,62741618/32768,94028919/32768
Remove Areas Masks Origin : 2822,1233
Remove Areas Masks Full Mask Size : 2880,1921
Remove Areas Masks Model Version : 234881976
Remove Areas Masks Gesture What : Mask/Paint
Remove Areas Masks Gesture Mask Active : true
Remove Areas Masks Gesture Mask Blend Mode : 0
Remove Areas Masks Gesture Mask Inverted : false
Remove Areas Masks Gesture Mask Sync ID : C0F45B9E94600A4B88C04E1AAD72429F
Remove Areas Masks Gesture Mask Value : 1
Remove Areas Masks Gesture Radius : 0
Remove Areas Masks Gesture Flow : 1
Remove Areas Masks Gesture Center Weight : 0
Remove Areas Masks Gesture Brush Gesture Interpretation:
0
Filter List Filters Name : Enhance
Filter List Filters Title : $$$/CRaw/Filter/Title/Denoise=Denoise
Filter List Filters Filter ID : 1
Filter List Filters Min Display Version : 285212672
Filter List Filters Min Edit Version : 285212672
Filter List Filters Order Index N : 100000
Filter List Filters Order Index D : 1
Filter List Filters Src Bounds Top : 0
Filter List Filters Src Bounds Left : 0
Filter List Filters Src Bounds Bottom : 3672
Filter List Filters Src Bounds Right : 5504
Filter List Filters Dst Bounds Top : 0
Filter List Filters Dst Bounds Left : 0
Filter List Filters Dst Bounds Bottom : 3672
Filter List Filters Dst Bounds Right : 5504
Filter List Filters Src Default Crop Area Top : 12
Filter List Filters Src Default Crop Area Left:
12
Filter List Filters Src Default Crop Area Bottom:
3660
Filter List Filters Src Default Crop Area Right:
5484
Filter List Filters Dst Default Crop Area Top : 12
Filter List Filters Dst Default Crop Area Left:
Filter List Filters Dst Default Crop Area Bottom:
Filter List Filters Dst Default Crop Area Right:
Filter List Filters Should Delete Images Due To Upstream:
true
Filter List Filters Compressed Settings : C6A12FF54B9B741A8475A0193EF7C77E
Filter List Filters Images Reference Image Area Top:
Filter List Filters Images Reference Image Area Left:
Filter List Filters Images Reference Image Area Bottom:
3672
Filter List Filters Images Reference Image Area Right:
5504
Filter List Filters Images Reference Default Crop Area Top:
Filter List Filters Images Reference Default Crop Area Left:
Filter List Filters Images Reference Default Crop Area Bottom:
Filter List Filters Images Reference Default Crop Area Right:
Filter List Filters Images Blend Type : 1
Filter List Filters Images Blend White Balance Mode:
2
Filter List Filters Images Matrix Type A : 1
Filter List Filters Images Matrix Type B : 1
Filter List Filters Images Matrix Type C : 4
Filter List Filters Images Opacity : 1,1
B2C97AE425DD751B0E48A3ACAE79CF4A
Filter List Filters Images Blend Params : 0.700000000186265, 0.75, 1, 1
Filter List Filters Images Matrix Params A : 0.25, 0.25
Filter List Filters Images Matrix Params B : 0.25, 0.25
Filter List Filters Images Color Variations Linearization Map Polynomial:
0.000786277465522289, 0.0473711872473359, 0, 0.710567804053426, 0.00154046155512333, 0.0624037208035588, 0, 0.936055817641318, 0.000770230777561665, 0.0620537074282765, 0, 0.930805613286793
Filter List Filters Images Color Variations Black Levels Black:
0,1
BA06BC25B69E3E2ECF2C148E197D3ABA
D415024CCA1C9E04E403C8BB40493023
Filter List Filters Images Color Variations Image Group Size X:
Filter List Filters Images Color Variations Image Group Size Y:
Filter List Filters Images Color Variations Image Group Stage 3X:
5472
Filter List Filters Images Color Variations Image Group Stage 3Y:
3648
Filter List Filters Images Color Variations Image Group Pixel Type:
3
Filter List Filters Images Color Variations Image Group Planes:
Look Name : Adobe Color
Look Amount : 1
Look Supports Amount : false
Look Supports Monochrome : false
Look Supports Output Referred : false
Look Copyright : © 2018 Adobe Systems, Inc.
Look Group : Profiles
Look Parameters Version : 18.2
Look Parameters Process Version : 15.4
Look Parameters Convert To Grayscale : False
Look Parameters Camera Profile : Adobe Standard
Look Parameters Look Table : E1095149FDB39D7A057BAB208837E2E1
Look Parameters Tone Curve PV2012 : 0, 0, 22, 16, 40, 35, 127, 127, 224, 230, 240, 246, 255, 255
Look Parameters Tone Curve PV2012 Red : 0, 0, 255, 255
Look Parameters Tone Curve PV2012 Green : 0, 0, 255, 255
Look Parameters Tone Curve PV2012 Blue : 0, 0, 255, 255
Look Parameters Point Colors : -1.000000, -1.000000, -1.000000, -1.000000, -1.000000, -1.000000, -1.000000, -1.000000, -1.000000, -1.000000, -1.000000, -1.000000, -1.000000, -1.000000, -1.000000, -1.000000, -1.000000, -1.000000, -1.000000
Look Parameters Color Variance : -50.000000
Image Width : 400
Image Height : 267
Bits Per Sample : 8
Color Components : 3
Aperture : 5.6
Image Size : 400x267
Megapixels : 0.107
Scale Factor To 35 mm Equivalent : 2.8
Shutter Speed : 1/100
Create Date : 2024:10:08 10:01:57+10:00
Date/Time Original : 2024:10:08 10:01:57+10:00
Modify Date : 2026:03:24 00:39:21+01:00
Circle Of Confusion : 0.011 mm
Field Of View : 71.5 deg
Focal Length : 9.1 mm (35 mm equivalent: 25.0 mm)
Hyperfocal Distance : 1.35 m
Light Value : 11.3
Lens ID : 24-70mm F1.8-2.8