Uber Exif Photo
Photometric Interpretation : RGB
Make : Panasonic
Camera Model Name : DC-S5
Orientation : Horizontal (normal)
Samples Per Pixel : 3
Software : Adobe Photoshop 26.11 (Windows)
Modify Date : 2025:10:25 13:10:22
Artist : JRA
Copyright : JOHN ANGARONI
Exposure Time : 1/125
Exposure Program : Aperture-priority AE
ISO : 800
Date/Time Original : 2025:10:22 17:22:08
Create Date : 2025:10:22 17:22:08
Shutter Speed Value : 1/125
Exposure Compensation : -0.33
Max Aperture Value : 1.0
Metering Mode : Multi-segment
Light Source : Unknown
Flash : Off, Did not fire
Color Space : sRGB
Exif Image Width : 2148
Exif Image Height : 3222
Sensing Method : One-chip color area
Scene Type : Directly photographed
Custom Rendered : Custom
Exposure Mode : Auto
White Balance : Auto
Digital Zoom Ratio : 0
Scene Capture Type : Standard
Gain Control : High gain up
Contrast : High
Saturation : Normal
Sharpness : Soft
Serial Number : WJ3CB001079
By-line : JRA
Copyright Notice : JOHN ANGARONI
Creator Tool : Adobe Photoshop Lightroom Classic 14.5.1 (Windows)
Preserved File Name : P1006462.RW2
Format : image/jpeg
Date Created : 2025:10:22 17:22:08.787-05:00
Color Mode : RGB
ICC Profile Name : sRGB IEC61966-2.1
Pick : 0
Raw File Name : P1006462.RW2
Version : 17.5
Compatible Version : 268632064
Process Version : 15.4
Color Temperature : 4850
Tint : +13
Exposure 2012 : +0.26
Contrast 2012 : +14
Highlights 2012 : -61
Shadows 2012 : +14
Whites 2012 : +50
Blacks 2012 : -56
Texture : 0
Clarity 2012 : +26
Dehaze : +35
Vibrance : +18
Parametric Shadows : 0
Parametric Darks : 0
Parametric Lights : 0
Parametric Highlights : 0
Parametric Shadow Split : 25
Parametric Midtone Split : 50
Parametric Highlight Split : 75
Sharpen Radius : +1.0
Sharpen Detail : 25
Sharpen Edge Masking : 0
Luminance Smoothing : 0
Color Noise Reduction : 25
Color Noise Reduction Detail : 50
Color Noise Reduction Smoothness : 50
Hue Adjustment Red : 0
Hue Adjustment Orange : 0
Hue Adjustment Yellow : 0
Hue Adjustment Green : 0
Hue Adjustment Aqua : 0
Hue Adjustment Blue : 0
Hue Adjustment Purple : 0
Hue Adjustment Magenta : 0
Saturation Adjustment Red : 0
Saturation Adjustment Orange : 0
Saturation Adjustment Yellow : 0
Saturation Adjustment Green : 0
Saturation Adjustment Aqua : 0
Saturation Adjustment Blue : 0
Saturation Adjustment Purple : 0
Saturation Adjustment Magenta : 0
Luminance Adjustment Red : 0
Luminance Adjustment Orange : 0
Luminance Adjustment Yellow : 0
Luminance Adjustment Green : 0
Luminance Adjustment Aqua : 0
Luminance Adjustment Blue : 0
Luminance Adjustment Purple : 0
Luminance Adjustment Magenta : 0
Split Toning Shadow Hue : 0
Split Toning Shadow Saturation : 0
Split Toning Highlight Hue : 0
Split Toning Highlight Saturation : 0
Split Toning Balance : 0
Color Grade Midtone Hue : 0
Color Grade Midtone Sat : 0
Color Grade Shadow Lum : 0
Color Grade Midtone Lum : 0
Color Grade Highlight Lum : 0
Color Grade Blending : 50
Color Grade Global Hue : 0
Color Grade Global Sat : 0
Color Grade Global Lum : 0
Auto Lateral CA : 0
Lens Profile Enable : 0
Lens Manual Distortion Amount : 0
Vignette Amount : 0
Defringe Purple Amount : 0
Defringe Purple Hue Lo : 30
Defringe Purple Hue Hi : 70
Defringe Green Amount : 0
Defringe Green Hue Lo : 40
Defringe Green Hue Hi : 60
Perspective Upright : Off
Perspective Vertical : 0
Perspective Horizontal : 0
Perspective Rotate : 0.0
Perspective Aspect : 0
Perspective Scale : 100
Perspective X : 0.00
Perspective Y : 0.00
Grain Amount : 0
Post Crop Vignette Amount : 0
Shadow Tint : 0
Red Hue : 0
Red Saturation : 0
Green Hue : 0
Green Saturation : 0
Blue Hue : 0
Blue Saturation : 0
HDR Edit Mode : 0
Convert To Grayscale : False
Override Look Vignette : False
Tone Curve Name 2012 : Linear
Camera Profile : Camera Vivid
Has Settings : True
Crop Top : 0.049063
Crop Left : 0.130592
Crop Bottom : 0.886003
Crop Right : 0.967532
Crop Angle : 0
Crop Constrain To Warp : 0
Crop Constrain To Unit Square : 1
Has Crop : True
Already Applied : True
Creator : JRA
Rights : JOHN ANGARONI
Tone Curve PV2012 : 0, 0, 255, 255
Tone Curve PV2012 Red : 0, 0, 255, 255
Tone Curve PV2012 Green : 0, 0, 255, 255
Tone Curve PV2012 Blue : 0, 0, 255, 255
Point Colors : -1.000000, -1.000000, -1.000000, -1.000000, -1.000000, -1.000000, -1.000000, -1.000000, -1.000000, -1.000000, -1.000000, -1.000000, -1.000000, -1.000000, -1.000000, -1.000000, -1.000000, -1.000000, -1.000000
Color Variance : -50.000000
Remove Areas Spot Type : heal_patchmatch
Remove Areas Source State : sourceAutoComputed
Remove Areas Opacity : 1
Remove Areas Seed : 2
Remove Areas Pm patch : 3D37AE99646173E2D750F2E572722016
Remove Areas Pm remap info 0 : 0.031845577,0.205691621,0.000000000,1.000000000
Remove Areas Pm remap info 1 : 0.032501716,0.595529079,0.000000000,1.000000000
Remove Areas Pm remap info 2 : 0.031921875,0.384649426,0.000000000,1.000000000
Remove Areas Pm gamma type : 1
Remove Areas Pm whole image top : 8
Remove Areas Pm whole image left : 12
Remove Areas Pm whole image bottom : 4008
Remove Areas Pm whole image right : 6012
Remove Areas Pm full image top : 0
Remove Areas Pm full image left : 0
Remove Areas Pm full image bottom : 4016
Remove Areas Pm full image right : 6028
Remove Areas Pm target top : 666
Remove Areas Pm target left : 1457
Remove Areas Pm target bottom : 1069
Remove Areas Pm target right : 2780
Remove Areas Pm search top : 425
Remove Areas Pm search left : 1216
Remove Areas Pm search bottom : 1455
Remove Areas Pm search right : 3020
Remove Areas Pm source type : full
Remove Areas Pm version : 327680
Remove Areas Fill method : firefly
Remove Areas Pm black level : 2044
Remove Areas Pm patch mask : FEB8835472E170BF965B32B857E67503
Remove Areas Pm mask remap info : 0.000000000,1.000000000,0.000000000,1.000000000
Remove Areas Pm clio model version : clio-erase#epoch=0-step=4000.clio-erase-c2-2025-03-19T10-37-32
Remove Areas Ingest Info : FC1BB71B24CC6ED98CDD818759C00923
Remove Areas Pm remap info variation 0 0 : 0.031845577,0.479011208,0.000000000,1.000000000
Remove Areas Pm remap info variation 0 1 : 0.032501716,0.786511004,0.000000000,1.000000000
Remove Areas Pm remap info variation 0 2 : 0.031921875,0.511039913,0.000000000,1.000000000
Remove Areas Pm remap info variation 1 0 : 0.031845577,0.329961091,0.000000000,1.000000000
Remove Areas Pm remap info variation 1 1 : 0.032501716,0.600350976,0.000000000,1.000000000
Remove Areas Pm remap info variation 1 2 : 0.031937134,0.392156869,0.000000000,1.000000000
Remove Areas Pm patch variations Pm patch variation:
AE42636BA9835F2AB252F342F2AD2664
Remove Areas Masks What : Mask/Image
Remove Areas Masks Mask Active : true
Remove Areas Masks Mask Blend Mode : 0
Remove Areas Masks Mask Inverted : false
Remove Areas Masks Mask Sync ID : 25EBEC3CD64F69419FCEFAEF0B1EC4F0
Remove Areas Masks Mask Value : 1
Remove Areas Masks Mask Version : 1
Remove Areas Masks Mask Sub Type : 0
Remove Areas Masks Reference Point : 0.302230 0.213506
Remove Areas Masks Whole Image Area : 0/1,0/1,1920/1,2880/1
Remove Areas Masks Origin : 708,330
Remove Areas Masks Full Mask Size : 2880,1920
Remove Areas Masks Model Version : 234881976
Remove Areas Masks Gesture What : Mask/Paint
Remove Areas Masks Gesture Mask Active : true
Remove Areas Masks Gesture Mask Blend Mode : 0
Remove Areas Masks Gesture Mask Inverted : false
Remove Areas Masks Gesture Mask Sync ID : 46BB6892C6F43447910A3B2A4F455D89
Remove Areas Masks Gesture Mask Value : 1
Remove Areas Masks Gesture Radius : 0
Remove Areas Masks Gesture Flow : 1
Remove Areas Masks Gesture Center Weight : 0
Remove Areas Masks Gesture Brush Gesture Interpretation:
0
100
50004
2
1
false
0.049246
Profile Description : sRGB IEC61966-2.1
Image Width : 267
Image Height : 400
Bits Per Sample : 8
Color Components : 3
Image Size : 267x400
Megapixels : 0.107
Scale Factor To 35 mm Equivalent : 1.9
Shutter Speed : 1/125
Create Date : 2025:10:22 17:22:08.787-05:00
Date/Time Original : 2025:10:22 17:22:08.787-05:00
Modify Date : 2025:10:25 13:10:22-04:00
Circle Of Confusion : 0.016 mm