Uber Exif Photo
Photometric Interpretation : RGB
Make : Panasonic
Camera Model Name : DC-S5
Orientation : Horizontal (normal)
Samples Per Pixel : 3
Software : Adobe Photoshop 26.9 (Windows)
Modify Date : 2025:08:01 01:04:33
Artist : JRA
Copyright : JOHN ANGARONI
Exposure Time : 1/30
Exposure Program : Aperture-priority AE
ISO : 1600
Sensitivity Type : Standard Output Sensitivity
Standard Output Sensitivity : 1600
Date/Time Original : 2025:05:29 04:47:57
Create Date : 2025:05:29 04:47:57
Shutter Speed Value : 1/30
Exposure Compensation : -0.33
Max Aperture Value : 1.0
Metering Mode : Multi-segment
Light Source : Unknown
Flash : Off, Did not fire
Color Space : sRGB
Exif Image Width : 1950
Exif Image Height : 1300
Sensing Method : One-chip color area
Scene Type : Directly photographed
Custom Rendered : Custom
Exposure Mode : Auto
White Balance : Auto
Digital Zoom Ratio : 0
Scene Capture Type : Standard
Gain Control : High gain up
Contrast : Normal
Saturation : High
Sharpness : Soft
Serial Number : WJ3CB001079
By-line : JRA
Copyright Notice : JOHN ANGARONI
Creator Tool : Adobe Photoshop Lightroom Classic 14.4 (Windows)
Preserved File Name : P1003565.JPG
Format : image/jpeg
Date Created : 2025:05:29 04:47:57.582-05:00
Color Mode : RGB
ICC Profile Name : sRGB IEC61966-2.1
Pick : 0
Raw File Name : P1003565.JPG
Version : 17.4
Compatible Version : 268632064
Process Version : 15.4
Incremental Temperature : +2
Incremental Tint : +12
Exposure 2012 : 0.00
Contrast 2012 : 0
Highlights 2012 : 0
Shadows 2012 : 0
Whites 2012 : 0
Blacks 2012 : 0
Texture : 0
Clarity 2012 : 0
Dehaze : 0
Vibrance : 0
Parametric Shadows : 0
Parametric Darks : 0
Parametric Lights : 0
Parametric Highlights : 0
Parametric Shadow Split : 25
Parametric Midtone Split : 50
Parametric Highlight Split : 75
Sharpen Radius : +3.0
Sharpen Detail : 100
Sharpen Edge Masking : 50
Luminance Smoothing : 24
Luminance Noise Reduction Detail : 50
Luminance Noise Reduction Contrast : 0
Color Noise Reduction : 25
Color Noise Reduction Detail : 50
Color Noise Reduction Smoothness : 50
Hue Adjustment Red : +21
Hue Adjustment Orange : -3
Hue Adjustment Yellow : -16
Hue Adjustment Green : +12
Hue Adjustment Aqua : +17
Hue Adjustment Blue : -15
Hue Adjustment Purple : -2
Hue Adjustment Magenta : +59
Saturation Adjustment Red : -2
Saturation Adjustment Orange : -12
Saturation Adjustment Yellow : -18
Saturation Adjustment Green : -18
Saturation Adjustment Aqua : +11
Saturation Adjustment Blue : +9
Saturation Adjustment Purple : -14
Saturation Adjustment Magenta : -2
Luminance Adjustment Red : +6
Luminance Adjustment Orange : +11
Luminance Adjustment Yellow : +9
Luminance Adjustment Green : +15
Luminance Adjustment Aqua : -5
Luminance Adjustment Blue : -6
Luminance Adjustment Purple : -3
Luminance Adjustment Magenta : +11
Split Toning Shadow Hue : 0
Split Toning Shadow Saturation : 0
Split Toning Highlight Hue : 0
Split Toning Highlight Saturation : 0
Split Toning Balance : 0
Color Grade Midtone Hue : 0
Color Grade Midtone Sat : 0
Color Grade Shadow Lum : 0
Color Grade Midtone Lum : 0
Color Grade Highlight Lum : 0
Color Grade Blending : 50
Color Grade Global Hue : 0
Color Grade Global Sat : 0
Color Grade Global Lum : 0
Auto Lateral CA : 0
Lens Profile Enable : 0
Lens Manual Distortion Amount : 0
Vignette Amount : 0
Defringe Purple Amount : 0
Defringe Purple Hue Lo : 30
Defringe Purple Hue Hi : 70
Defringe Green Amount : 0
Defringe Green Hue Lo : 40
Defringe Green Hue Hi : 60
Perspective Upright : Off
Perspective Vertical : 0
Perspective Horizontal : 0
Perspective Rotate : 0.0
Perspective Aspect : 0
Perspective Scale : 100
Perspective X : 0.00
Perspective Y : 0.00
Grain Amount : 0
Post Crop Vignette Amount : 0
Shadow Tint : 0
Red Hue : 0
Red Saturation : 0
Green Hue : 0
Green Saturation : 0
Blue Hue : 0
Blue Saturation : 0
HDR Edit Mode : 0
Curve Refine Saturation : 100
Convert To Grayscale : False
Override Look Vignette : False
Tone Curve Name 2012 : Custom
Camera Profile : Embedded
Has Settings : True
Crop Top : 0
Crop Left : 0
Crop Bottom : 1
Crop Right : 1
Crop Angle : 0
Crop Constrain To Warp : 0
Crop Constrain To Unit Square : 1
Has Crop : False
Already Applied : True
Creator : JRA
Rights : JOHN ANGARONI
Tone Curve PV2012 : 0, 0, 50, 31, 106, 92, 133, 125, 154, 153, 162, 161, 170, 172, 179, 181, 186, 193, 194, 202, 213, 225, 222, 234, 238, 247, 255, 255
Tone Curve PV2012 Red : 0, 0, 105, 106, 154, 155, 193, 192, 221, 221, 255, 255
Tone Curve PV2012 Green : 0, 0, 106, 107, 154, 155, 194, 194, 255, 255
Tone Curve PV2012 Blue : 0, 0, 108, 108, 155, 156, 222, 221, 244, 245, 255, 255
Point Colors : -1.000000, -1.000000, -1.000000, -1.000000, -1.000000, -1.000000, -1.000000, -1.000000, -1.000000, -1.000000, -1.000000, -1.000000, -1.000000, -1.000000, -1.000000, -1.000000, -1.000000, -1.000000, -1.000000
Color Variance : -50.000000
Remove Areas Spot Type : heal_patchmatch
Remove Areas Source State : sourceAutoComputed
Remove Areas Opacity : 1
Remove Areas Seed : 2
Remove Areas Pm patch : 48CC1EE264CA310C12C7559EBCF38708
Remove Areas Pm remap info 0 : 0.013153277,0.341847867,0.000000000,1.000000000
Remove Areas Pm remap info 1 : 0.016449226,0.441428244,0.000000000,1.000000000
Remove Areas Pm remap info 2 : 0.007415885,0.326604098,0.000000000,1.000000000
Remove Areas Pm gamma type : 1
Remove Areas Pm whole image top : 0
Remove Areas Pm whole image left : 0
Remove Areas Pm whole image bottom : 4000
Remove Areas Pm whole image right : 6000
Remove Areas Pm full image top : 0
Remove Areas Pm full image left : 0
Remove Areas Pm full image bottom : 4000
Remove Areas Pm full image right : 6000
Remove Areas Pm target top : 2757
Remove Areas Pm target left : 1422
Remove Areas Pm target bottom : 2934
Remove Areas Pm target right : 1613
Remove Areas Pm search top : 2690
Remove Areas Pm search left : 1355
Remove Areas Pm search bottom : 3014
Remove Areas Pm search right : 1679
Remove Areas Pm source type : full
Remove Areas Pm version : 327680
Remove Areas Fill method : firefly
Remove Areas Pm black level : 0
Remove Areas Pm patch mask : BB5247562C20744BCA9115A394BDD186
Remove Areas Pm mask remap info : 0.000000000,1.000000000,0.000000000,1.000000000
Remove Areas Pm clio model version : 1.0.5-beta.1-1.2_1.2-8c2cea4-0.1.27.1r16.2
Remove Areas Ingest Info : E4E3E3F1FE439D8FE190FAD28BDD3652
Remove Areas Pm remap info variation 0 0 : 0.008789197,0.365438312,0.000000000,1.000000000
Remove Areas Pm remap info variation 0 1 : 0.009781033,0.491767764,0.000000000,1.000000000
Remove Areas Pm remap info variation 0 2 : 0.006225681,0.373510331,0.000000000,1.000000000
Remove Areas Pm remap info variation 1 0 : 0.005157549,0.402456701,0.000000000,1.000000000
Remove Areas Pm remap info variation 1 1 : 0.006225681,0.468513012,0.000000000,1.000000000
Remove Areas Pm remap info variation 1 2 : 0.003097581,0.445883870,0.000000000,1.000000000
Remove Areas Pm patch variations Pm patch variation:
F90732258F89A6A3F2EFB1FDE7B2D254
Remove Areas Masks What : Mask/Image
Remove Areas Masks Mask Active : true
Remove Areas Masks Mask Blend Mode : 0
Remove Areas Masks Mask Inverted : false
Remove Areas Masks Mask Sync ID : F9849A67C5348944AF4B2BA711DC1394
Remove Areas Masks Mask Value : 1
Remove Areas Masks Mask Version : 1
Remove Areas Masks Mask Sub Type : 0
Remove Areas Masks Reference Point : 0.251953 0.709677
Remove Areas Masks Whole Image Area : 0/1,0/1,1920/1,2880/1
Remove Areas Masks Origin : 684,1325
Remove Areas Masks Full Mask Size : 2880,1920
Remove Areas Masks Model Version : 234881976
Remove Areas Masks Gesture What : Mask/Paint
Remove Areas Masks Gesture Mask Active : true
Remove Areas Masks Gesture Mask Blend Mode : 0
Remove Areas Masks Gesture Mask Inverted : false
Remove Areas Masks Gesture Mask Sync ID : C6AB674DBB3C2D45BB4A13E8E30BD72C
Remove Areas Masks Gesture Mask Value : 1
Remove Areas Masks Gesture Radius : 0
Remove Areas Masks Gesture Flow : 1
Remove Areas Masks Gesture Center Weight : 0
Remove Areas Masks Gesture Brush Gesture Interpretation:
0
Profile Description : sRGB IEC61966-2.1
Image Width : 400
Image Height : 267
Bits Per Sample : 8
Color Components : 3
Image Size : 400x267
Megapixels : 0.107
Shutter Speed : 1/30
Create Date : 2025:05:29 04:47:57.582-05:00
Date/Time Original : 2025:05:29 04:47:57.582-05:00
Modify Date : 2025:08:01 01:04:33-04:00