Uber Exif Photo
Make : Leica Camera AG
Camera Model Name : LEICA M11-P
Software : Adobe Lightroom 7.2 (Windows)
Modify Date : 2024:03:16 21:56:55
Artist : Marc Fray
Copyright : Marc FRAY
Exposure Time : 1/30
F Number : 8.0
Exposure Program : Manual
ISO : 400
Sensitivity Type : Standard Output Sensitivity
Standard Output Sensitivity : 400
ISO Speed : 400
Date/Time Original : 2024:03:16 18:29:27
Create Date : 2024:03:16 18:29:27
Shutter Speed Value : 1/30
Aperture Value : 8.0
Exposure Compensation : 0
Max Aperture Value : 2.8
Metering Mode : Multi-segment
Light Source : Cloudy
Flash : No Flash
Focal Length : 28.0 mm
Color Space : Uncalibrated
Scene Type : Directly photographed
Custom Rendered : Normal
Exposure Mode : Manual
White Balance : Manual
Digital Zoom Ratio : 0
Scene Capture Type : Standard
Contrast : Normal
Saturation : Normal
Sharpness : Normal
Serial Number : 5886088
Lens Info : 28mm f/2.8
Lens Make : Leica Camera AG
Lens Model : Elmarit-M 1:2.8/28 Leitz
By-line : Marc Fray
Copyright Notice : Marc FRAY
Profile Description : Adobe RGB (1998)
Version ID : 02.00
Creator Tool : Adobe Lightroom 7.2 (Windows)
Format : image/jpeg
Correction Already Applied : False
Pitch Angle : 22.8339996337
Roll Angle : 1.8730000257
Focal Length 35mm : 28.0000000000
Target Aspect Ratio : 1.5000000000
Scaling Factor Height : 0.8978021144
Valid Crop Corners : True
Apply Automatically : False
Lens : Elmarit-M 1:2.8/28 Leitz
Approximate Focus Distance : 8.17
Lateral Chromatic Aberration Correction Already Applied:
True
Date Created : 2024:03:16 18:29:27
Raw File Name : L1000439.DNG
Version : 16.2
Process Version : 15.4
Color Temperature : 6844
Tint : +19
Exposure 2012 : +0.28
Contrast 2012 : +7
Highlights 2012 : -74
Shadows 2012 : +80
Whites 2012 : +50
Blacks 2012 : -20
Texture : 0
Clarity 2012 : 0
Dehaze : 0
Vibrance : +25
Parametric Shadows : 0
Parametric Darks : 0
Parametric Lights : 0
Parametric Highlights : 0
Parametric Shadow Split : 25
Parametric Midtone Split : 50
Parametric Highlight Split : 75
Sharpen Radius : +1.0
Sharpen Detail : 25
Sharpen Edge Masking : 0
Luminance Smoothing : 10
Luminance Noise Reduction Detail : 50
Luminance Noise Reduction Contrast : 0
Color Noise Reduction : 25
Color Noise Reduction Detail : 50
Color Noise Reduction Smoothness : 50
Hue Adjustment Red : 0
Hue Adjustment Orange : 0
Hue Adjustment Yellow : 0
Hue Adjustment Green : 0
Hue Adjustment Aqua : 0
Hue Adjustment Blue : 0
Hue Adjustment Purple : 0
Hue Adjustment Magenta : 0
Saturation Adjustment Red : 0
Saturation Adjustment Orange : 0
Saturation Adjustment Yellow : 0
Saturation Adjustment Green : 0
Saturation Adjustment Aqua : 0
Saturation Adjustment Blue : 0
Saturation Adjustment Purple : 0
Saturation Adjustment Magenta : 0
Luminance Adjustment Red : 0
Luminance Adjustment Orange : 0
Luminance Adjustment Yellow : 0
Luminance Adjustment Green : 0
Luminance Adjustment Aqua : 0
Luminance Adjustment Blue : 0
Luminance Adjustment Purple : 0
Luminance Adjustment Magenta : 0
Split Toning Shadow Hue : 0
Split Toning Shadow Saturation : 0
Split Toning Highlight Hue : 0
Split Toning Highlight Saturation : 0
Split Toning Balance : 0
Color Grade Midtone Hue : 0
Color Grade Midtone Sat : 0
Color Grade Shadow Lum : 0
Color Grade Midtone Lum : 0
Color Grade Highlight Lum : 0
Color Grade Blending : 50
Color Grade Global Hue : 0
Color Grade Global Sat : 0
Color Grade Global Lum : 0
Auto Lateral CA : 1
Lens Profile Enable : 1
Lens Manual Distortion Amount : 0
Vignette Amount : 0
Defringe Purple Amount : 0
Defringe Purple Hue Lo : 30
Defringe Purple Hue Hi : 70
Defringe Green Amount : 0
Defringe Green Hue Lo : 40
Defringe Green Hue Hi : 60
Perspective Upright : Full
Perspective Vertical : 0
Perspective Horizontal : 0
Perspective Rotate : 0.0
Perspective Aspect : 0
Perspective Scale : 100
Perspective X : 0.00
Perspective Y : 0.00
Grain Amount : 0
Post Crop Vignette Amount : 0
Shadow Tint : 0
Red Hue : 0
Red Saturation : 0
Green Hue : 0
Green Saturation : 0
Blue Hue : 0
Blue Saturation : 0
HDR Edit Mode : 0
Convert To Grayscale : False
Override Look Vignette : False
Tone Curve Name 2012 : Linear
Camera Profile : Adobe Standard
Lens Profile Setup : LensDefaults
Has Settings : True
Crop Top : 0
Crop Left : 0.091792
Crop Bottom : 0.952128
Crop Right : 0.904678
Crop Angle : 0
Crop Constrain To Warp : 0
Has Crop : True
Already Applied : True
Derived From Version ID : 02.00
Rights : Marc FRAY
Creator : Marc Fray
Normalized Crop Corners : 0.1179342269, 0.0432675331, 0.8613561987, 0.0068008247, 1.0000000000, 0.7550709247, 0.0121780354, 0.8035260438
Tone Curve PV2012 : 0, 0, 255, 255
Tone Curve PV2012 Red : 0, 0, 255, 255
Tone Curve PV2012 Green : 0, 0, 255, 255
Tone Curve PV2012 Blue : 0, 0, 255, 255
Point Colors : -1.000000, -1.000000, -1.000000, -1.000000, -1.000000, -1.000000, -1.000000, -1.000000, -1.000000, -1.000000, -1.000000, -1.000000, -1.000000, -1.000000, -1.000000, -1.000000, -1.000000, -1.000000, -1.000000
Image Width : 400
Image Height : 311
Bits Per Sample : 8
Color Components : 3
Aperture : 8.0
Image Size : 400x311
Megapixels : 0.124
Scale Factor To 35 mm Equivalent : 12.5
Shutter Speed : 1/30
Modify Date : 2024:03:16 21:56:55+01:00
Circle Of Confusion : 0.002 mm
Depth Of Field : 3.40 m (6.81 - 10.21 m)
Field Of View : 5.9 deg
Focal Length : 28.0 mm (35 mm equivalent: 349.6 mm)
Hyperfocal Distance : 40.73 m
Light Value : 8.9