Uber Exif Photo
Photometric Interpretation : RGB
Make : FUJIFILM
Camera Model Name : FinePix S6500fd
Orientation : Horizontal (normal)
Samples Per Pixel : 3
Planar Configuration : Chunky
Software : Adobe Photoshop CS6 (13.0 20120305.m.415 2012/03/05:21:00:00) (Windows)
Modify Date : 2012:04:30 16:53:22
Copyright : ©vladimir radivojevic
Exposure Time : 1/75
F Number : 4.5
Exposure Program : Aperture-priority AE
ISO : 100
Date/Time Original : 2006:01:02 07:18:44
Create Date : 2006:01:02 07:18:44
Shutter Speed Value : 1/75
Aperture Value : 4.5
Brightness Value : 5.5
Exposure Compensation : 0
Max Aperture Value : 2.8
Metering Mode : Multi-segment
Light Source : Unknown
Flash : Off, Did not fire
Focal Length : 32.7 mm
Color Space : Uncalibrated
Exif Image Width : 1000
Exif Image Height : 667
Sensing Method : One-chip color area
Scene Type : Directly photographed
Custom Rendered : Normal
Exposure Mode : Auto
White Balance : Auto
Scene Capture Type : Standard
Sharpness : Normal
Subject Distance Range : Unknown
Copyright Notice : ©vladimir radivojevic
Copyright Flag : True
Creator Tool : Adobe Photoshop CS5 Windows
Rating : 0
Raw File Name : DSCF7518.RAF
Version : 6.0
Process Version : 5.7
Color Temperature : 4400
Tint : -5
Exposure : 0.00
Shadows : 5
Brightness : +50
Contrast : +38
Saturation : 0
Luminance Smoothing : 0
Color Noise Reduction : 25
Chromatic Aberration R : 0
Chromatic Aberration B : 0
Vignette Amount : 0
Shadow Tint : 0
Red Hue : 0
Red Saturation : 0
Green Hue : 0
Green Saturation : 0
Blue Hue : 0
Blue Saturation : 0
Fill Light : 0
Vibrance : +10
Highlight Recovery : 33
Clarity : +8
Defringe : 0
Hue Adjustment Red : 0
Hue Adjustment Orange : 0
Hue Adjustment Yellow : 0
Hue Adjustment Green : 0
Hue Adjustment Aqua : 0
Hue Adjustment Blue : 0
Hue Adjustment Purple : 0
Hue Adjustment Magenta : 0
Saturation Adjustment Red : 0
Saturation Adjustment Orange : 0
Saturation Adjustment Yellow : 0
Saturation Adjustment Green : 0
Saturation Adjustment Aqua : 0
Saturation Adjustment Blue : 0
Saturation Adjustment Purple : 0
Saturation Adjustment Magenta : 0
Luminance Adjustment Red : 0
Luminance Adjustment Orange : 0
Luminance Adjustment Yellow : 0
Luminance Adjustment Green : 0
Luminance Adjustment Aqua : 0
Luminance Adjustment Blue : 0
Luminance Adjustment Purple : 0
Luminance Adjustment Magenta : 0
Split Toning Shadow Hue : 0
Split Toning Shadow Saturation : 0
Split Toning Highlight Hue : 0
Split Toning Highlight Saturation : 0
Split Toning Balance : 0
Parametric Shadows : 0
Parametric Darks : 0
Parametric Lights : 0
Parametric Highlights : 0
Parametric Shadow Split : 25
Parametric Midtone Split : 50
Parametric Highlight Split : 75
Sharpen Radius : +1.0
Sharpen Detail : 25
Sharpen Edge Masking : 0
Post Crop Vignette Amount : 0
Grain Amount : 0
Color Noise Reduction Detail : 50
Convert To Grayscale : False
Tone Curve Name : Medium Contrast
Camera Profile : Adobe Standard
Has Settings : True
Has Crop : False
Already Applied : True
Sidecar For Extension : RAF
Color Mode : RGB
Date Created : 2006:01:02 07:18:44
Format : image/jpeg
Marked : True
Tone Curve : 0, 0, 32, 22, 64, 56, 128, 128, 192, 196, 255, 255
Gradient Based Corr What : Correction
Gradient Based Corr Amount : 1.000000
Gradient Based Corr Active : true
Gradient Based Corr Exposure : -0.337500
Gradient Based Corr Saturation : 0.000000
Gradient Based Corr Contrast : -0.050000
Gradient Based Corr Clarity : 0.050000
Gradient Based Corr Sharpness : 0.000000
Gradient Based Corr Brightness : -0.050000
Gradient Based Corr Toning Hue : 4.000000
Gradient Based Corr Toning Saturation : 0.000000
Gradient Based Corr Mask What : Mask/Gradient
Gradient Based Corr Mask Value : 1.000000
Gradient Based Corr Mask Zero X : 0.308465
Gradient Based Corr Mask Zero Y : 0.374761
Gradient Based Corr Mask Full X : -0.028229
Gradient Based Corr Mask Full Y : 0.387111
Rights : ©vladimir radivojevic
Image Width : 400
Image Height : 267
Bits Per Sample : 8
Color Components : 3
Aperture : 4.5
Image Size : 400x267
Megapixels : 0.107
Scale Factor To 35 mm Equivalent : 7.5
Shutter Speed : 1/75
Circle Of Confusion : 0.004 mm
Field Of View : 8.4 deg
Focal Length : 32.7 mm (35 mm equivalent: 244.8 mm)
Hyperfocal Distance : 59.21 m
Light Value : 10.6